BEGIN:VCALENDAR
VERSION:2.0
PRODID:-//ChamberMaster//Event Calendar 2.0//EN
METHOD:PUBLISH
X-PUBLISHED-TTL:P3D
REFRESH-INTERVAL:P3D
CALSCALE:GREGORIAN
BEGIN:VEVENT
DTSTART:20190321T163000Z
DTEND:20190321T183000Z
X-MICROSOFT-CDO-ALLDAYEVENT:FALSE
SUMMARY:Women in Technology: Maven and NetSet Communications Roundtable Discussion
DESCRIPTION:We invite employers\, educators\, student and people working in tech to discuss the attraction\, retention and advancement of women in the sector.
X-ALT-DESC;FMTTYPE=text/html:We invite employers\, educators\, student and people working in tech to discuss the attraction\, retention and advancement of women in the sector.
LOCATION:NetSet Communications\, 5 Granite Road Brandon\, Manitoba
UID:e.9429.1084
SEQUENCE:3
DTSTAMP:20260419T135232Z
URL:https://members.techmanitoba.ca/events/details/women-in-technology-maven-and-netset-communications-roundtable-discussion-1084
END:VEVENT

END:VCALENDAR
