BEGIN:VCALENDAR
VERSION:2.0
PRODID:-//ChamberMaster//Event Calendar 2.0//EN
METHOD:PUBLISH
X-PUBLISHED-TTL:P3D
REFRESH-INTERVAL:P3D
CALSCALE:GREGORIAN
BEGIN:VEVENT
DTSTART:20170620T200000Z
DTEND:20170620T210000Z
X-MICROSOFT-CDO-ALLDAYEVENT:FALSE
SUMMARY:WIT: Women in Tech
DESCRIPTION:Registration link can be found here\n\n\n\nMix and mingle with ambitious\, accomplished women of all ages and backgrounds!\n\nChat with your peers in the ICT and technology industry\, as well as participate in speed-networking sessions to ask questions and learn from the best! Whether you're currently working in ICT\,  interested in a new career\, or continuing your education\, you're bound to make great new connections.\n\nMen are (of course!) welcome\, but we encourage you to bring a female with you.\n\n\n	\n		\n			Location:\n			 \n			King's Head Pub\, 120 King St\, Winnipeg\n		\n		\n			When:\n			 \n			Tuesday\, June 20th\, 2017   3:00pm - 6:00pm\n		\n		\n			Cost:\n			 \n			FREE!\n		\n		\n			More Information:\n			 \n			Appetizers will be served. Additional food and drinks available for purchase. info@ictam.ca or 204 944 0533\n		\n	\n\n\n \n\nSchedule:\n\n3pm - 4pm: networking\n\n4pm - 5pm: speed-networking sessions\n\n5pm - 6pm: networking
X-ALT-DESC;FMTTYPE=text/html:<p><span style="font-size:16px\;"><a href="https://www.eventbrite.ca/e/wit-women-in-tech-june-20th-2017-tickets-35013187386"><strong>Registration link can be found here</strong></a></span><br />\n<br />\nMix and mingle with ambitious\, accomplished women of all ages and backgrounds!</p>\n\n<p>Chat with your peers in the ICT and technology industry\, as well as participate in speed-networking sessions to ask questions and learn from the best! Whether you&#39\;re currently working in ICT\, &nbsp\;interested in a new career\, or continuing your education\, you&#39\;re bound to make great new connections.</p>\n\n<p>Men are (of course!) welcome\, but we encourage you to bring a female with you.</p>\n\n<table border="0">\n	<tbody>\n		<tr>\n			<td><strong>Location:</strong></td>\n			<td>&nbsp\;</td>\n			<td>King&#39\;s Head Pub\, 120 King St\, Winnipeg</td>\n		</tr>\n		<tr>\n			<td><strong>When:</strong></td>\n			<td>&nbsp\;</td>\n			<td>Tuesday\, June 20th\, 2017 &bull\; 3:00pm - 6:00pm</td>\n		</tr>\n		<tr>\n			<td><strong>Cost:</strong></td>\n			<td>&nbsp\;</td>\n			<td>FREE!</td>\n		</tr>\n		<tr>\n			<td><strong>More Information:</strong></td>\n			<td>&nbsp\;</td>\n			<td>Appetizers will be served. Additional food and drinks available for purchase.<strong> <a href="mailto:info@ictam.ca?subject=ICTAM%20Tech%20Mash%20Up%20Inquiry" target="_blank">info@ictam.ca</a></strong> or 204 944 0533</td>\n		</tr>\n	</tbody>\n</table>\n\n<p>&nbsp\;</p>\n\n<p><span style="text-decoration: underline\;">Schedule:</span><br />\n3pm - 4pm: networking<br />\n4pm - 5pm: speed-networking sessions<br />\n5pm - 6pm: networking</p>\n
LOCATION:King's Head Pub\, 120 King St.
UID:e.9429.1030
SEQUENCE:3
DTSTAMP:20260421T020517Z
URL:https://members.techmanitoba.ca/events/details/wit-women-in-tech-1030
END:VEVENT

END:VCALENDAR
