BEGIN:VCALENDAR
VERSION:2.0
PRODID:-//ChamberMaster//Event Calendar 2.0//EN
METHOD:PUBLISH
X-PUBLISHED-TTL:P3D
REFRESH-INTERVAL:P3D
CALSCALE:GREGORIAN
BEGIN:VEVENT
DTSTART:20170209T230000Z
DTEND:20170210T030000Z
X-MICROSOFT-CDO-ALLDAYEVENT:FALSE
SUMMARY:The State of Security - February 9th\, 2017
DESCRIPTION:We all use technology to help keep us safe. But\, when does it go too far?\n\n\n\nAs the lead counsel to Edward Snowden\, Ben Wizner has worked with civil liberties and national security for fifteen years.  Join him and explore the current state of national security and how emerging technologies might affect our world.\n\n\n\nDig deep. Uncover new information. Find out how much your tech says about you. And who's listening.
X-ALT-DESC;FMTTYPE=text/html:<strong>We all use technology to help keep us safe. But\, when does it go too far?</strong><br />\n<br />\nAs the lead counsel to Edward Snowden\, Ben Wizner has worked with civil liberties and national security for fifteen years.&nbsp\; Join him and explore the current state of national security and how emerging technologies might affect our world.<br />\n<br />\nDig deep. Uncover new information. Find out how much your tech says about you. And who&rsquo\;s listening.
LOCATION:RBC Convention Centre\, 2nd Floor North Building (Pan Am Room) 375 York Avenue\, Winnipeg\, MB
UID:e.9429.24
SEQUENCE:3
DTSTAMP:20260421T092445Z
URL:https://members.techmanitoba.ca/events/details/the-state-of-security-february-9th-2017-24
END:VEVENT

END:VCALENDAR
