BEGIN:VCALENDAR
VERSION:2.0
PRODID:-//ChamberMaster//Event Calendar 2.0//EN
METHOD:PUBLISH
X-PUBLISHED-TTL:P3D
REFRESH-INTERVAL:P3D
CALSCALE:GREGORIAN
BEGIN:VEVENT
DTSTART:20200305T003000Z
DTEND:20200305T033000Z
X-MICROSOFT-CDO-ALLDAYEVENT:FALSE
SUMMARY:TechWPG Speaker Series
DESCRIPTION:TechWPG's highly curated program features keynote speakers\, panel discussions and demonstrations from Winnipeg's leading technology companies.\n\nMingling & Drinks: Enjoy a beverage and break the ice with someone in the room. Make a meaningful connection that could be your next team member or co-founder.\n\nKeynote Presentations: Exciting 25-30 minute TED Talk style keynote presentations followed by a product showcase from an exciting new Winnipeg start-up.\n\n\n\nPanelists: \n\nMargaux Miller\, Program Director\, Tech Manitoba\n\nSheila Harris\, Head of Business Transformation\, Farmers Edge\n\nPaul Leszcynski\, Head of Business System\, Farmers Edge\n\nIain Connor\, Infrastructure and Product\, Priceline Partner Network
X-ALT-DESC;FMTTYPE=text/html:<div class="mb-6" style="box-sizing: inherit\; border: 0px solid rgb(226\, 232\, 240)\; margin: 0px 0px 1.5rem\; color: rgb(31\, 41\, 51)\; font-family: Lato-thick\, sans-serif\; font-size: medium\;"><span style="font-size:14px\;"><span style="font-family:verdana\;"><a href="https://www.techwpg.org/">TechWPG&rsquo\;s</a> highly curated program features keynote speakers\, panel discussions and demonstrations from Winnipeg&rsquo\;s leading technology companies.</span></span></div>\n\n<div class="mb-6" style="box-sizing: inherit\; border: 0px solid rgb(226\, 232\, 240)\; margin: 0px 0px 1.5rem\; color: rgb(31\, 41\, 51)\; font-family: Lato-thick\, sans-serif\; font-size: medium\;"><span style="font-size:14px\;"><span style="font-family:verdana\;"><span class="font-bold" style="box-sizing: inherit\; border: 0px solid rgb(226\, 232\, 240)\; font-weight: 700\;">Mingling &amp\; Drinks:</span>&nbsp\;Enjoy a beverage and break the ice with someone in the room. Make a meaningful connection that could be your next team member or co-founder.</span></span></div>\n\n<div style="box-sizing: inherit\; border: 0px solid rgb(226\, 232\, 240)\; margin: 0px\; color: rgb(31\, 41\, 51)\; font-family: Lato-thick\, sans-serif\; font-size: medium\;"><span style="font-size:14px\;"><span style="font-family:verdana\;"><span class="font-bold" style="box-sizing: inherit\; border: 0px solid rgb(226\, 232\, 240)\; font-weight: 700\;">Keynote Presentations:</span>&nbsp\;Exciting 25-30 minute TED Talk style keynote presentations followed by a product showcase from an exciting new Winnipeg start-up.<br />\n<br />\n<strong>Panelists:&nbsp\;</strong><br />\nMargaux Miller\, Program Director\, Tech Manitoba<br />\nSheila Harris\, Head of Business Transformation\, Farmers Edge<br />\nPaul Leszcynski\, Head of Business System\, Farmers Edge<br />\nIain Connor\, Infrastructure and Product\, Priceline Partner Network&nbsp\;</span></span></div>\n\n<div class="flex justify-between flex-wrap py-10" style="box-sizing: inherit\; border: 0px solid rgb(226\, 232\, 240)\; display: flex\; flex-wrap: wrap\; justify-content: space-between\; padding-top: 2.5rem\; padding-bottom: 2.5rem\; color: rgb(31\, 41\, 51)\; font-family: Lato-thick\, sans-serif\; font-size: medium\;">&nbsp\;</div>\n
LOCATION:Launch Coworking Space Unit 500 - 167 Lombard St\, Winnipeg\, MB
UID:e.9429.1148
SEQUENCE:3
DTSTAMP:20260419T154039Z
URL:https://members.techmanitoba.ca/events/details/techwpg-speaker-series-1148
END:VEVENT

END:VCALENDAR
