BEGIN:VCALENDAR
VERSION:2.0
PRODID:-//ChamberMaster//Event Calendar 2.0//EN
METHOD:PUBLISH
X-PUBLISHED-TTL:P3D
REFRESH-INTERVAL:P3D
CALSCALE:GREGORIAN
BEGIN:VEVENT
DTSTART:20250130T223000Z
DTEND:20250131T020000Z
X-MICROSOFT-CDO-ALLDAYEVENT:FALSE
SUMMARY:Tech Thursdays
DESCRIPTION:The What\, How\, When\, and Why of Developer Automation\n\n\n\n\n\n \n\n\n\n\n\nWe're thrilled to bring you this awesome panel on Developer Automation. We'll cover everything you need to know about Developer Automation. Our panelist are:\n\n \n\nJeffrey Dugas\, CEO at Floodline Consulting\, Inc.\n\nAnton Sawka\, Software Developer at Grain & Protein Technologies\n\nEric Kulchycki\, Senior Software Developer at Floodline Consulting Inc.\n\nShruti Goyal\, Full Stack Developer at Neo Financial\n\n \n\n \n\nStick around for a happy hour right after the event!\n\n\n\n\n\nRegister Here
X-ALT-DESC;FMTTYPE=text/html:<div class="Layout-module__module___2eUcs Layout-module__title___2YUKj" data-testid="title" style="margin: 0px\; padding: 0px\; box-sizing: border-box\; color: rgb(57\, 54\, 79)\; font-family: &quot\;Neue Plak&quot\;\, -apple-system\, BlinkMacSystemFont\, Roboto\, &quot\;Helvetica Neue&quot\;\, Helvetica\, Tahoma\, Arial\, sans-serif\; font-size: 14px\;">\n<div class="event-details__main-inner" style="margin: auto\; padding-top: \; padding-right: 0px\; padding-bottom: \; padding-left: 0px\; box-sizing: border-box\; -webkit-box-flex: 1\; flex: 1 1 0%\;">\n<h1 class="event-title css-0" style="font-size: 3.25rem\; margin-top: 0px\; margin-right: 0px\; margin-bottom: calc(var(--base-unit)*4)\; margin-left: 0px\; padding: 0px\; box-sizing: border-box\; color: rgb(30\, 10\, 60)\; font-weight: 800\; line-height: 4rem\; word-break: break-word\;">The What\, How\, When\, and Why of Developer Automation</h1>\n</div>\n</div>\n\n<div class="Layout-module__module___2eUcs Layout-module__creatorCollections___16CyM" data-testid="creatorCollections" style="margin: 0px\; padding: 0px\; box-sizing: border-box\; color: rgb(57\, 54\, 79)\; font-family: &quot\;Neue Plak&quot\;\, -apple-system\, BlinkMacSystemFont\, Roboto\, &quot\;Helvetica Neue&quot\;\, Helvetica\, Tahoma\, Arial\, sans-serif\; font-size: 14px\;">\n<div class="event-details__main-inner" style="margin: auto\; padding-top: \; padding-right: 0px\; padding-bottom: \; padding-left: 0px\; box-sizing: border-box\; -webkit-box-flex: 1\; flex: 1 1 0%\;">\n<div class="creator-collections-link" data-testid="link-to-creator-collections" id="link-to-creator-collections" style="margin-top: 0px\; margin-right: 0px\; margin-bottom: calc(var(--base-unit)*4)\; margin-left: 0px\; padding: 0px\; color: rgb(111\, 114\, 135)\; box-sizing: border-box\;">&nbsp\;</div>\n</div>\n</div>\n\n<div class="Layout-module__module___2eUcs Layout-module__summary___1srt-" data-testid="summary" style="margin: 0px\; padding: 0px\; box-sizing: border-box\; color: rgb(57\, 54\, 79)\; font-family: &quot\;Neue Plak&quot\;\, -apple-system\, BlinkMacSystemFont\, Roboto\, &quot\;Helvetica Neue&quot\;\, Helvetica\, Tahoma\, Arial\, sans-serif\; font-size: 14px\;">\n<div class="event-details__main-inner" style="margin: auto\; padding-top: \; padding-right: 0px\; padding-bottom: \; padding-left: 0px\; box-sizing: border-box\; -webkit-box-flex: 1\; flex: 1 1 0%\;">\n<p style="margin: 0px\; padding: 0px\; box-sizing: border-box\; font-size: 16px\; line-height: 1.5rem\; color: rgb(111\, 114\, 135)\; font-family: &quot\;Neue Plak&quot\;\, -apple-system\, BlinkMacSystemFont\, Roboto\, &quot\;Helvetica Neue&quot\;\, Helvetica\, Tahoma\, Arial\, sans-serif\;">We&#39\;re thrilled to bring you this awesome panel on Developer Automation. We&#39\;ll cover everything you need to know about Developer Automation. Our panelist are:</p>\n\n<div style="box-sizing: inherit\; -webkit-tap-highlight-color: transparent\; margin: auto !important\; line-height: inherit !important\; font-size: inherit !important\; font-family: inherit !important\;">&nbsp\;</div>\n\n<div style="box-sizing: inherit\; -webkit-tap-highlight-color: transparent\; margin: auto !important\; line-height: inherit !important\; font-size: inherit !important\; font-family: inherit !important\;"><b style="box-sizing: inherit\; -webkit-tap-highlight-color: transparent\;">Jeffrey Dugas</b>\, CEO at Floodline Consulting\, Inc.</div>\n\n<div style="box-sizing: inherit\; -webkit-tap-highlight-color: transparent\; margin: auto !important\; line-height: inherit !important\; font-size: inherit !important\; font-family: inherit !important\;"><b style="box-sizing: inherit\; -webkit-tap-highlight-color: transparent\;">Anton Sawka</b>\, Software Developer at Grain &amp\; Protein Technologies</div>\n\n<div style="box-sizing: inherit\; -webkit-tap-highlight-color: transparent\; margin: auto !important\; line-height: inherit !important\; font-size: inherit !important\; font-family: inherit !important\;"><b style="box-sizing: inherit\; -webkit-tap-highlight-color: transparent\;">Eric Kulchycki</b>\, Senior Software Developer at Floodline Consulting Inc.</div>\n\n<div style="box-sizing: inherit\; -webkit-tap-highlight-color: transparent\; margin: auto !important\; line-height: inherit !important\; font-size: inherit !important\; font-family: inherit !important\;"><b style="box-sizing: inherit\; -webkit-tap-highlight-color: transparent\;">Shruti Goyal\,&nbsp\;</b>Full Stack Developer at Neo Financial</div>\n\n<div style="box-sizing: inherit\; -webkit-tap-highlight-color: transparent\; margin: auto !important\; line-height: inherit !important\; font-size: inherit !important\; font-family: inherit !important\;">&nbsp\;</div>\n\n<p style="margin: 0px\; padding: 10px 0px 0px\; box-sizing: border-box\; font-size: 16px\; line-height: 1.5rem\; color: rgb(111\, 114\, 135)\; font-family: &quot\;Neue Plak&quot\;\, -apple-system\, BlinkMacSystemFont\, Roboto\, &quot\;Helvetica Neue&quot\;\, Helvetica\, Tahoma\, Arial\, sans-serif\;">&nbsp\;</p>\n\n<p style="margin: 0px\; padding: 10px 0px 0px\; box-sizing: border-box\; font-size: 16px\; line-height: 1.5rem\; color: rgb(111\, 114\, 135)\; font-family: &quot\;Neue Plak&quot\;\, -apple-system\, BlinkMacSystemFont\, Roboto\, &quot\;Helvetica Neue&quot\;\, Helvetica\, Tahoma\, Arial\, sans-serif\;">Stick around for a happy hour right after the event!</p>\n</div>\n</div>\n\n<p style="margin: 0px\; padding: 10px 0px 0px\; box-sizing: border-box\; font-size: 16px\; line-height: 1.5rem\; color: rgb(111\, 114\, 135)\; font-family: &quot\;Neue Plak&quot\;\, -apple-system\, BlinkMacSystemFont\, Roboto\, &quot\;Helvetica Neue&quot\;\, Helvetica\, Tahoma\, Arial\, sans-serif\;"><br />\n<a href="https://3common.com/u/winnipegtechthursday"><strong>Register Here</strong></a></p>\n
LOCATION:King's Head Pub
UID:e.9429.1427
SEQUENCE:3
DTSTAMP:20260421T042715Z
URL:https://members.techmanitoba.ca/events/details/tech-thursdays-1427
END:VEVENT

END:VCALENDAR
