BEGIN:VCALENDAR
VERSION:2.0
PRODID:-//ChamberMaster//Event Calendar 2.0//EN
METHOD:PUBLISH
X-PUBLISHED-TTL:P3D
REFRESH-INTERVAL:P3D
CALSCALE:GREGORIAN
BEGIN:VEVENT
DTSTART:20240711T213000Z
DTEND:20240711T233000Z
X-MICROSOFT-CDO-ALLDAYEVENT:FALSE
SUMMARY:Tech Thursdays
DESCRIPTION:We're thrilled to co-host a panel with the Manitoba Technology Accelerator on the Future of Customer Experience.\n\nSpeakers are Kyla Wills-Lollback\, Chief of Staff at Gryd\, Brayden Kehler\, Co-founder/CEO at 3Common\, Zechariah Noiseaux\, Co-Founder at FasTab\, and Grant McDonald\, Co-Founder/CEO at Bobo.\n\n \n\nStick around for StartUp TNT's Happy Hour after the event.\n\n\n\nNo registration required.
X-ALT-DESC;FMTTYPE=text/html:<p style="margin: 0px\; padding: 0px\; box-sizing: border-box\; font-size: 16px\; line-height: 1.5rem\; color: rgb(111\, 114\, 135)\; font-family: &quot\;Neue Plak&quot\;\, -apple-system\, BlinkMacSystemFont\, Roboto\, &quot\;Helvetica Neue&quot\;\, Helvetica\, Tahoma\, Arial\, sans-serif\;">We&#39\;re thrilled to co-host a panel with the Manitoba Technology Accelerator on the Future of Customer Experience.</p>\n\n<p style="margin: 0px\; padding: 10px 0px 0px\; box-sizing: border-box\; font-size: 16px\; line-height: 1.5rem\; color: rgb(111\, 114\, 135)\; font-family: &quot\;Neue Plak&quot\;\, -apple-system\, BlinkMacSystemFont\, Roboto\, &quot\;Helvetica Neue&quot\;\, Helvetica\, Tahoma\, Arial\, sans-serif\;">Speakers are Kyla Wills-Lollback\, Chief of Staff at Gryd\, Brayden Kehler\, Co-founder/CEO at 3Common\, Zechariah Noiseaux\, Co-Founder at FasTab\, and Grant McDonald\, Co-Founder/CEO at Bobo.</p>\n\n<p style="margin: 0px\; padding: 0px\; box-sizing: border-box\; font-size: 16px\; line-height: 1.5rem\; color: rgb(111\, 114\, 135)\; font-family: &quot\;Neue Plak&quot\;\, -apple-system\, BlinkMacSystemFont\, Roboto\, &quot\;Helvetica Neue&quot\;\, Helvetica\, Tahoma\, Arial\, sans-serif\;">&nbsp\;</p>\n\n<p style="margin: 0px\; padding: 10px 0px 0px\; box-sizing: border-box\; font-size: 16px\; line-height: 1.5rem\; color: rgb(111\, 114\, 135)\; font-family: &quot\;Neue Plak&quot\;\, -apple-system\, BlinkMacSystemFont\, Roboto\, &quot\;Helvetica Neue&quot\;\, Helvetica\, Tahoma\, Arial\, sans-serif\;">Stick around for StartUp TNT&#39\;s Happy Hour after the event.</p>\n\n<p style="margin: 0px\; padding: 10px 0px 0px\; box-sizing: border-box\; font-size: 16px\; line-height: 1.5rem\; color: rgb(111\, 114\, 135)\; font-family: &quot\;Neue Plak&quot\;\, -apple-system\, BlinkMacSystemFont\, Roboto\, &quot\;Helvetica Neue&quot\;\, Helvetica\, Tahoma\, Arial\, sans-serif\;"><br />\nNo registration required.</p>\n
LOCATION:King's Head Pub
UID:e.9429.1379
SEQUENCE:3
DTSTAMP:20260421T191735Z
URL:https://members.techmanitoba.ca/events/details/tech-thursdays-1379
END:VEVENT

END:VCALENDAR
