BEGIN:VCALENDAR
VERSION:2.0
PRODID:-//ChamberMaster//Event Calendar 2.0//EN
METHOD:PUBLISH
X-PUBLISHED-TTL:P3D
REFRESH-INTERVAL:P3D
CALSCALE:GREGORIAN
BEGIN:VEVENT
DTSTART:20170321T170000Z
DTEND:20170321T181500Z
X-MICROSOFT-CDO-ALLDAYEVENT:FALSE
SUMMARY:Tech Mash Up: "Understanding the Success Factors for Test Automation: When You Should and Shouldn't Use It" - March 21st\, 2017
DESCRIPTION:Presented by Online Business Systems\nWhen used properly\, test automation software can be one of best tools to help measure\, manage\, and drive quality into technology based solutions. However\, too often organizations embrace test automation without fully understanding when it should be used or when more traditional methods would actually be better.\n\nDuring this panel based discussion\, a team of quality assurance experts will explore the nuances of test automation\, discuss common pitfalls\, and provide practical\, real-world guidance on when it should be used and how its benefits can be maximized.   \n\n\n\nWho should attend: IT Managers\, Project Managers or Quality Assurance professionals who are part of delivering important projects\, are looking to develop best practices for their organization or introduce improved ways of executing projects.
X-ALT-DESC;FMTTYPE=text/html:<p><strong><span style="font-size: 14pt\;">Presented by Online Business Systems</span></strong></p>\n<span style="color:#5D5C64\;"><span style="font-family:verdana\,sans-serif\;"><span style="font-size:9.0pt\;">When used properly\, test automation software can be one of best tools to help measure\, manage\, and drive quality into technology based solutions. However\, too often organizations embrace test automation without fully understanding when it should be used or when more traditional methods would actually be better.</span></span></span><br />\n<span style="color:#5D5C64\;"><span style="font-family:verdana\,sans-serif\;"><span style="font-size:9.0pt\;">During this panel based discussion\, a team of quality assurance experts will explore the nuances of test automation\, discuss common pitfalls\, and provide practical\, real-world guidance on when it should be used and how its benefits can be maximized. &nbsp\;&nbsp\;</span></span></span><br />\n<br />\n<strong><span style="color:#5D5C64\;"><span style="font-family:verdana\,sans-serif\;"><span style="font-size:9.0pt\;">Who should attend:</span></span></span></strong><span style="color:#5D5C64\;"><span style="font-family:verdana\,sans-serif\;"><span style="font-size:9.0pt\;"> IT Managers\, Project Managers or Quality Assurance professionals who are part of delivering important projects\, are looking to develop best practices for their organization or introduce improved ways of executing projects.</span></span></span>
LOCATION:435 Ellice Ave\, NRC Building
UID:e.9429.27
SEQUENCE:3
DTSTAMP:20260421T074442Z
URL:https://members.techmanitoba.ca/events/details/tech-mash-up-understanding-the-success-factors-for-test-automation-when-you-should-and-shouldn-t-use-it-march-21st-2017-27
END:VEVENT

END:VCALENDAR
