BEGIN:VCALENDAR
VERSION:2.0
PRODID:-//ChamberMaster//Event Calendar 2.0//EN
METHOD:PUBLISH
X-PUBLISHED-TTL:P3D
REFRESH-INTERVAL:P3D
CALSCALE:GREGORIAN
BEGIN:VEVENT
DTSTART:20170411T170000Z
DTEND:20170411T181500Z
X-MICROSOFT-CDO-ALLDAYEVENT:FALSE
SUMMARY:Tech Mash Up: "The Next Industrial Revolution" - April 11th\, 2017
DESCRIPTION:* This is a free event\, so if you don't have an ICTAM login\, just register above under the non-member form\n\n\n\nPresented by Imaginet\nSome call it Industry 4.0.  Some call it Manufacturing 4.0.  Whatever we will end up calling this phase of history\, it is nothing less than the next industrial revolution. As with every past industrial revolution\, change will not simply be isolated to manufacturers\; transformation will ripple through the fabric of economy\, business\, and our daily lives.  Join Joel Semeniuk in a discussion of the fundamental mindsets that are driving this change as well as strategies for how all organizations could adapt to meet the onslaught of this rapidly emerging revolution in innovation.
X-ALT-DESC;FMTTYPE=text/html:<p><span style="font-size:14px\;"><em>* This is a free event\, so if you don't have an ICTAM login\, just register above under the non-member form</em></span><br>\n<br>\n<strong><span style="font-size: 14pt\;">Presented by Imaginet</span></strong></p>\nSome call it Industry 4.0.&nbsp\; Some call it Manufacturing 4.0.&nbsp\; Whatever we will end up calling this phase of history\, it is nothing less than the next industrial revolution. As with every past industrial revolution\, change will not simply be isolated to manufacturers\; transformation will ripple through the fabric of economy\, business\, and our daily lives.&nbsp\; Join Joel Semeniuk in a discussion of the fundamental mindsets that are driving this change as well as strategies for how all organizations could adapt to meet the onslaught of this rapidly emerging revolution in innovation.
LOCATION:435 Ellice Ave\, NRC Building
UID:e.9429.28
SEQUENCE:3
DTSTAMP:20260421T055854Z
URL:https://members.techmanitoba.ca/events/details/tech-mash-up-the-next-industrial-revolution-april-11th-2017-28
END:VEVENT

END:VCALENDAR
