BEGIN:VCALENDAR
VERSION:2.0
PRODID:-//ChamberMaster//Event Calendar 2.0//EN
METHOD:PUBLISH
X-PUBLISHED-TTL:P3D
REFRESH-INTERVAL:P3D
CALSCALE:GREGORIAN
BEGIN:VEVENT
DTSTART:20160920T170000Z
DTEND:20160920T181500Z
X-MICROSOFT-CDO-ALLDAYEVENT:FALSE
SUMMARY:Tech Mash Up: "Predictive Analytics in Manitoba" - September 20th\, 2016
DESCRIPTION:Data Science. Predictive Analytics. Big Data.\n\n\n\nNo\, these are not villainous corporations from a Matt Damon movie. These are tools the largest companies in Manitoba are using to combat fraud\, forecast demand\, and better understand their customers. At Tech Mash Up\, Keith Maclaren from Norima Consulting will demonstrate what these tools can teach you about your customers\, competitors\, and revenue in 2017.\n\n\n\nMachine Learning is not just for automatically tagging your friends in a new profile picture or suggesting the next action-comedy to watch on Netflix. It's going to make a huge difference in the way Manitoba does business. Maybe\, it'll change the way you do business. That would be awesome.
X-ALT-DESC;FMTTYPE=text/html:Data Science. Predictive Analytics. Big Data.<br />\n<br />\nNo\, these are not villainous corporations from a Matt Damon movie. These are tools the largest companies in Manitoba are using to combat fraud\, forecast demand\, and better understand their customers. At Tech Mash Up\, Keith Maclaren from Norima Consulting will demonstrate what these tools can teach you about your customers\, competitors\, and revenue in 2017.<br />\n<br />\nMachine Learning is not just for automatically tagging your friends in a new profile picture or suggesting the next action-comedy to watch on Netflix. It&rsquo\;s going to make a huge difference in the way Manitoba does business. Maybe\, it&rsquo\;ll change the way you do business. That would be awesome.
LOCATION:NRC Building\, 435 Ellice Ave\, first floor
UID:e.9429.1
SEQUENCE:3
DTSTAMP:20260421T172447Z
URL:https://members.techmanitoba.ca/events/details/tech-mash-up-predictive-analytics-in-manitoba-september-20th-2016-1
END:VEVENT

END:VCALENDAR
