BEGIN:VCALENDAR
VERSION:2.0
PRODID:-//ChamberMaster//Event Calendar 2.0//EN
METHOD:PUBLISH
X-PUBLISHED-TTL:P3D
REFRESH-INTERVAL:P3D
CALSCALE:GREGORIAN
BEGIN:VEVENT
DTSTART:20170221T180000Z
DTEND:20170221T191500Z
X-MICROSOFT-CDO-ALLDAYEVENT:FALSE
SUMMARY:Tech Mash Up: "People 'Satisfaction': Key to Sales\, Productivity and Retention Improvement" - February 21st\, 2017
DESCRIPTION:Presented by Surefooting Consulting\n\nThere are lots of smart people. Running a competitive organization\, however\, takes people smarts. You have to understand people to retain good employees while driving sales and profitability upward. This Tech Mash Up\, presented by Surefooting Consulting\, will illustrate the five tiers of people satisfaction and demonstrates the impacts of three key human capital management practices.\n\nComponents of People Satisfaction:\n\n1. Material\n\n2. Community\n\n3. Performance\n\n4. Learning\n\n5. Meaning\n\n\n\nGrowth Challenges:\n\n1. Hiring quality staff\n\n2. Staff training\n\n3. Staff morale\, enthusiasm level and intensity of focus challenges\n\n\n\nHuman Capital Management Practices Impact on:\n\n1. Performance - Sales Growth and Profit Growth\n\n2. Productivity and Retention\n\n3. Customer Satisfaction\n\n4. Saving Money
X-ALT-DESC;FMTTYPE=text/html:<p><strong><span style="font-size: 14pt\;">Presented by Surefooting </span></strong><strong><span style="font-size: 14pt\;">Consulting</span></strong><br />\nThere are lots of smart people. Running a competitive organization\, however\, takes people smarts. You have to understand people to retain good employees while driving sales and profitability upward. This Tech Mash Up\, presented by Surefooting Consulting\, will illustrate the five tiers of people satisfaction and demonstrates the impacts of three key human capital management practices.</p>\n\n<p><span data-mce-style="text-decoration: underline\;" style="text-decoration: underline\;">Components of People Satisfaction:</span><br />\n1. Material<br />\n2. Community<br />\n3. Performance<br />\n4. Learning<br />\n5. Meaning<br />\n<br />\n<span data-mce-style="text-decoration: underline\;" style="text-decoration: underline\;">Growth Challenges:</span><br />\n1. Hiring quality staff<br />\n2. Staff training<br />\n3. Staff morale\, enthusiasm level and intensity of focus challenges<br />\n<br />\n<span data-mce-style="text-decoration: underline\;" style="text-decoration: underline\;">Human Capital Management Practices Impact on:</span><br />\n1. Performance - Sales Growth and Profit Growth<br />\n2. Productivity and Retention<br />\n3. Customer Satisfaction<br />\n4. Saving Money</p>\n
LOCATION:435 Ellice Ave\, NRC Building
UID:e.9429.22
SEQUENCE:3
DTSTAMP:20260421T092354Z
URL:https://members.techmanitoba.ca/events/details/tech-mash-up-people-satisfaction-key-to-sales-productivity-and-retention-improvement-february-21st-2017-22
END:VEVENT

END:VCALENDAR
