BEGIN:VCALENDAR
VERSION:2.0
PRODID:-//ChamberMaster//Event Calendar 2.0//EN
METHOD:PUBLISH
X-PUBLISHED-TTL:P3D
REFRESH-INTERVAL:P3D
CALSCALE:GREGORIAN
BEGIN:VEVENT
DTSTART:20161206T180000Z
DTEND:20161206T191500Z
X-MICROSOFT-CDO-ALLDAYEVENT:FALSE
SUMMARY:Tech Mash Up: "People “Satisfaction”: Key to Sales\, Productivity and Retention Improvement" - December 6th\, 2016
DESCRIPTION:Presented by Surefooting Consulting\n\nBecoming "people smart" is a required competency to run a competitive organization and drive sales and profitability while retaining good employees. The seminar will present 5 tiers of people "satisfaction" and impact of 3 key human capital management practices on profitability\, productivity\, retention and customer satisfaction.\n\nComponents of People Satisfaction:\n\n1. Material\n\n2. Community\n\n3. Performance\n\n4. Learning\n\n5. Meaning\n\n\n\nGrowth Challenges:\n\n1. Hiring quality staff\n\n2. Staff training\n\n3. Staff morale\, enthusiasm level and intensity of focus challenges\n\n\n\nHuman Capital Management Practices Impact on:\n\n1. Performance - Sales Growth and Profit Growth\n\n2. Productivity and Retention\n\n3. Customer Satisfaction\n\n4. Saving Money
X-ALT-DESC;FMTTYPE=text/html:<p><strong><span style="font-size: 14pt\;">Presented by Surefooting </span></strong><strong><span style="font-size: 14pt\;">Consulting</span></strong><br />\nBecoming &ldquo\;people smart&rdquo\; is a required competency to run a competitive organization and drive sales and profitability while retaining good employees. The seminar will present 5 tiers of people &ldquo\;satisfaction&rdquo\; and impact of 3 key human capital management practices on profitability\, productivity\, retention and customer satisfaction.</p>\n\n<p><span data-mce-style="text-decoration: underline\;" style="text-decoration: underline\;">Components of People Satisfaction:</span><br />\n1. Material<br />\n2. Community<br />\n3. Performance<br />\n4. Learning<br />\n5. Meaning<br />\n<br />\n<span data-mce-style="text-decoration: underline\;" style="text-decoration: underline\;">Growth Challenges:</span><br />\n1. Hiring quality staff<br />\n2. Staff training<br />\n3. Staff morale\, enthusiasm level and intensity of focus challenges<br />\n<br />\n<span data-mce-style="text-decoration: underline\;" style="text-decoration: underline\;">Human Capital Management Practices Impact on:</span><br />\n1. Performance - Sales Growth and Profit Growth<br />\n2. Productivity and Retention<br />\n3. Customer Satisfaction<br />\n4. Saving Money</p>\n
LOCATION:435 Ellice Ave\, NRC Building
UID:e.9429.5
SEQUENCE:3
DTSTAMP:20260421T124053Z
URL:https://members.techmanitoba.ca/events/details/tech-mash-up-people-satisfaction-key-to-sales-productivity-and-retention-improvement-december-6th-2016-5
END:VEVENT

END:VCALENDAR
