BEGIN:VCALENDAR
VERSION:2.0
PRODID:-//ChamberMaster//Event Calendar 2.0//EN
METHOD:PUBLISH
X-PUBLISHED-TTL:P3D
REFRESH-INTERVAL:P3D
CALSCALE:GREGORIAN
BEGIN:VEVENT
DTSTART:20161018T170000Z
DTEND:20161018T181500Z
X-MICROSOFT-CDO-ALLDAYEVENT:FALSE
SUMMARY:Tech Mash Up: "Building a Hybrid SharePoint Information Governance Plan" - October 18th\, 2016
DESCRIPTION:Join Paul Twigg\, VP Technology at Sierra Systems\, in exploring the steps and tools required to build a hybrid information governance plan. We will start with business drivers and considerations\, then touch on architecture\, functionality\, and identity synchronization. We will also cover hybrid integration scenarios with governing information features like business intelligence\, websites\, extranets\, collaboration\, documents and records management as well as governing the search.
X-ALT-DESC;FMTTYPE=text/html:Join Paul Twigg\, VP Technology at Sierra Systems\, in exploring the steps and tools required to build a hybrid information governance plan. We will start with business drivers and considerations\, then touch on architecture\, functionality\, and identity synchronization. We will also cover hybrid integration scenarios with governing information features like business intelligence\, websites\, extranets\, collaboration\, documents and records management as well as governing the search.
LOCATION:435 Ellice Ave\, NRC Building
UID:e.9429.3
SEQUENCE:3
DTSTAMP:20260421T172247Z
URL:https://members.techmanitoba.ca/events/details/tech-mash-up-building-a-hybrid-sharepoint-information-governance-plan-october-18th-2016-3
END:VEVENT

END:VCALENDAR
