BEGIN:VCALENDAR
VERSION:2.0
PRODID:-//ChamberMaster//Event Calendar 2.0//EN
METHOD:PUBLISH
X-PUBLISHED-TTL:P3D
REFRESH-INTERVAL:P3D
CALSCALE:GREGORIAN
BEGIN:VEVENT
DTSTART:20161115T180000Z
DTEND:20161115T191500Z
X-MICROSOFT-CDO-ALLDAYEVENT:FALSE
SUMMARY:Tech Mash Up: "Brand Strategy for Tech Companies: how and why to do it" - November 15\, 2016
DESCRIPTION:Does your brand messaging speak to your customers' most significant needs? Does it give your potential customers compelling reasons to choose you over competitors? Learn how to assess the strength of your brand\, how to develop a brand strategy yourself and/or the key components you should have in mind when hiring a firm to help you with it. Brand strategy matters - come find out how to take your brand and positioning to the next level.
X-ALT-DESC;FMTTYPE=text/html:Does your brand messaging speak to your customers&rsquo\; most significant needs? Does it give your potential customers compelling reasons to choose you over competitors? Learn how to assess the strength of your brand\, how to develop a brand strategy yourself and/or the key components you should have in mind when hiring a firm to help you with it. Brand strategy matters - come find out how to take your brand and positioning to the next level.
LOCATION:435 Ellice Ave\, NRC Building
UID:e.9429.4
SEQUENCE:3
DTSTAMP:20260421T142713Z
URL:https://members.techmanitoba.ca/events/details/tech-mash-up-brand-strategy-for-tech-companies-how-and-why-to-do-it-november-15-2016-4
END:VEVENT

END:VCALENDAR
