BEGIN:VCALENDAR
VERSION:2.0
PRODID:-//ChamberMaster//Event Calendar 2.0//EN
METHOD:PUBLISH
X-PUBLISHED-TTL:P3D
REFRESH-INTERVAL:P3D
CALSCALE:GREGORIAN
BEGIN:VEVENT
DTSTART:20170516T170000Z
DTEND:20170516T181500Z
X-MICROSOFT-CDO-ALLDAYEVENT:FALSE
SUMMARY:Tech Mash Up: BDO Canada "Business Process Information Analysis and Optimization" - May 16h\, 2017
DESCRIPTION:* This is a free event\, so if you don't have an ICTAM login\, just register above under the non-member form\n\n\n\nPresented by BDO Canada\n\n*note* This Tech Mash Up has been revised to one presentation\n\nBusiness Process Information Analysis and Optimization\n\nConsulting engagement which focuses on your operational and financial business processes and how your stakeholders use and share information.  Following a review of current processes\, BDO will perform an analysis in order to provide recommendations to improve\, streamline\, and possibly redesign business processes to realize organizational efficiencies.  \n\nPresented by: Mike Ketler\, Senior Consultant with BDO Solutions
X-ALT-DESC;FMTTYPE=text/html:<p><span style="font-size:14px\;"><em>* This is a free event\, so if you don&#39\;t have an ICTAM login\, just register above under the non-member form</em></span><br />\n<br />\n<strong><span style="font-size: 14pt\;">Presented by BDO Canada</span></strong><br />\n<em>*note*</em> This Tech Mash Up has been revised to one presentation</p>\n\n<p><u>Business Process Information Analysis and Optimization</u><br />\nConsulting engagement which focuses on your operational and financial business processes and how your stakeholders use and share information.&nbsp\; Following a review of current processes\, BDO will perform an analysis in order to provide recommendations to improve\, streamline\, and possibly redesign business processes to realize organizational efficiencies. &nbsp\;</p>\n\n<p>Presented by: Mike Ketler\, Senior Consultant with BDO Solutions</p>\n
LOCATION:435 Ellice Ave\, NRC Building
UID:e.9429.29
SEQUENCE:3
DTSTAMP:20260421T060417Z
URL:https://members.techmanitoba.ca/events/details/tech-mash-up-bdo-canada-business-process-information-analysis-and-optimization-may-16h-2017-29
END:VEVENT

END:VCALENDAR
