BEGIN:VCALENDAR
VERSION:2.0
PRODID:-//ChamberMaster//Event Calendar 2.0//EN
METHOD:PUBLISH
X-PUBLISHED-TTL:P3D
REFRESH-INTERVAL:P3D
CALSCALE:GREGORIAN
BEGIN:VEVENT
DTSTART:20220118T174500Z
DTEND:20220118T191500Z
X-MICROSOFT-CDO-ALLDAYEVENT:FALSE
SUMMARY:Tech Mash Up: A Workforce Reimagined
DESCRIPTION:Join Tammy Kasdorf to learn about Traction on Demand's growth in Nelson\, BC\, Manitoba and other small towns and how their "work everywhere" model has helped double the size of Traction in the last year. Tammy will share:\n\n	How to successfully manage a remote workforce\,   \n	The difference diversity training makes & why it should be a part of every organization\n	The skills needed to succeed in tech (Hint: it's not programming abilities)\n	How to use Slack as an invaluable communication tool\n\nTammy Kasdorf\, Business Development Manager\, Traction on Demand\n\n \n\nTammy Kasdorf is a software implementation consultant who values straight talk\, integrity\, and excellence. As a tech veteran\, Tammy brings unique perspectives gained from her years spent working side by side with programmers to find the right balance between people\, processes\, & technology. \n\n \n\nShe is especially inspired with helping people take their organizations from simply surviving to growing through change. Critical to her success is showing up everyday with an open mindset\, ready to pivot and adapt at any point. Her north star has always been her strong intuition. She consults with empathy\, guiding towards the larger picture . \n\n \n\nAway from work\, Tammy can be found chauffeuring her children to their activities and walking their "puppy" Teddy down country roads. She loves snowboarding and playing ringette in the winter\, golfing and hiking in the summer.
X-ALT-DESC;FMTTYPE=text/html:<br />\nJoin Tammy Kasdorf to learn about Traction on Demand&#39\;s growth in Nelson\, BC\, Manitoba and other small towns and how their &quot\;work everywhere&quot\; model has helped double the size of Traction in the last year. Tammy will share:\n<ul>\n	<li>How to successfully manage a remote workforce\,&nbsp\;&nbsp\;&nbsp\;</li>\n	<li>The difference diversity training makes &amp\; why it should be a part of every organization</li>\n	<li>The skills needed to succeed in tech (Hint: it&#39\;s not programming abilities)</li>\n	<li>How to use Slack as an invaluable communication tool</li>\n</ul>\n<strong>Tammy Kasdorf\, Business Development Manager\, Traction on Demand</strong><br />\n&nbsp\;<br />\nTammy Kasdorf is a software implementation consultant who values straight talk\, integrity\, and excellence. As a tech veteran\, Tammy brings unique perspectives gained from her years spent working side by side with programmers to find the right balance between people\, processes\, &amp\; technology.&nbsp\;<br />\n&nbsp\;<br />\nShe is especially inspired with helping people take their organizations from simply surviving to growing through change. Critical to her success is showing up everyday with an open mindset\, ready to pivot and adapt at any point. Her north star has always been her strong intuition. She consults with empathy\, guiding towards the larger picture .&nbsp\;<br />\n&nbsp\;<br />\nAway from work\, Tammy can be found chauffeuring her children to their activities and walking their &ldquo\;puppy&rdquo\; Teddy down country roads. She loves snowboarding and playing ringette in the winter\, golfing and hiking in the summer.<br />\n&nbsp\;
LOCATION:Virtual via Remo
UID:e.9429.1270
SEQUENCE:3
DTSTAMP:20260420T133725Z
URL:https://members.techmanitoba.ca/events/details/tech-mash-up-a-workforce-reimagined-1270
END:VEVENT

END:VCALENDAR
