BEGIN:VCALENDAR
VERSION:2.0
PRODID:-//ChamberMaster//Event Calendar 2.0//EN
METHOD:PUBLISH
X-PUBLISHED-TTL:P3D
REFRESH-INTERVAL:P3D
CALSCALE:GREGORIAN
BEGIN:VEVENT
DTSTART:20170117T180000Z
DTEND:20170117T191500Z
X-MICROSOFT-CDO-ALLDAYEVENT:FALSE
SUMMARY:Tech Mash Up: "2017 Trends for Canada’s Technology\, Media\, & Telecommunications Industry" - January 17th\, 2017
DESCRIPTION:Presented by Deloitte\nThe session will provide a highlights of Deloitte's predictions for the key trends in the technology\, media and telecommunications ("TMT") sector for the coming year.
X-ALT-DESC;FMTTYPE=text/html:<p><strong><span style="font-size: 14pt\;">Presented by Deloitte</span></strong></p>\n<span style="font-family:arial\,sans-serif\;"><span style="font-size:10.0pt\;">The session will provide a highlights of Deloitte&rsquo\;s predictions for the key trends in the technology\, media and telecommunications (&ldquo\;TMT&rdquo\;) sector for the coming year.&nbsp\; </span></span>
LOCATION:435 Ellice Ave\, NRC Building
UID:e.9429.23
SEQUENCE:3
DTSTAMP:20260421T110117Z
URL:https://members.techmanitoba.ca/events/details/tech-mash-up-2017-trends-for-canada-s-technology-media-telecommunications-industry-january-17th-2017-23
END:VEVENT

END:VCALENDAR
