BEGIN:VCALENDAR
VERSION:2.0
PRODID:-//ChamberMaster//Event Calendar 2.0//EN
METHOD:PUBLISH
X-PUBLISHED-TTL:P3D
REFRESH-INTERVAL:P3D
CALSCALE:GREGORIAN
BEGIN:VEVENT
DTSTART:20260615T220000Z
DTEND:20260616T010000Z
X-MICROSOFT-CDO-ALLDAYEVENT:FALSE
SUMMARY:Tech Manitoba's 30th Anniversary
DESCRIPTION:Join us as Tech Manitoba celebrates 30 years of building connections\, innovation\, and community!\n\n\n\nWe're throwing it back to where it all began\, step into a 90s throwback at Kilter Brewing Co. on Monday\, June 15 from 5:00 8:00 PM. This milestone event brings together Manitoba's tech community from the past\, present\, and future for an evening of nostalgia\, networking\, and celebration.\n\n\n\nExpect retro vibes and a room full of the people who have shaped the province's tech ecosystem. Whether you've been part of the journey for decades or are just getting started\, this is your chance to connect\, celebrate\, and look ahead to what's next.\n\n\n\nBreak out your best 90s look: think denim on denim\, windbreakers\, band tees\, or your favorite throwback style and come raise a glass to 30 years of Tech Manitoba.\n\n\n\nLet's celebrate the past and build the future.\n\n\n\nTickets are complimentary for members and $20 for non-members. \n\n\n\nIf you're a member registering for the event\, please ensure you're using the email associated with your corporate profile in MemberZone. If you have any questions\, please contact Shaelynn (sstimpson@techmanitoba.ca) or Marie (mhacault@techmanitoba.ca).
X-ALT-DESC;FMTTYPE=text/html:<div class="OutlineElement Ltr SCXW125972618 BCX0" style="-webkit-user-drag: none\; -webkit-tap-highlight-color: transparent\; margin: 0px\; padding: 0px\; user-select: text\; clear: both\; cursor: text\; overflow: visible\; position: relative\; direction: ltr\; color: rgb(0\, 0\, 0)\; font-family: &quot\;Segoe UI&quot\;\, &quot\;Segoe UI Web&quot\;\, Arial\, Verdana\, sans-serif\; font-size: 12px\;">\n<p class="Paragraph SCXW125972618 BCX0" paraeid="{f89e8107-0b19-4302-800d-556edf9f24a6}{79}" paraid="1498992306" style="-webkit-user-drag: none\; -webkit-tap-highlight-color: transparent\; margin: 16px 0px\; padding: 0px\; user-select: text\; overflow-wrap: break-word\; vertical-align: baseline\; font-kerning: none\; background-color: transparent\; color: windowtext\;"><br />\n<span class="TextRun SCXW125972618 BCX0" data-contrast="auto" lang="EN-US" style="-webkit-user-drag: none\; -webkit-tap-highlight-color: transparent\; margin: 0px\; padding: 0px\; user-select: text\; font-variant-ligatures: none !important\; font-size: 12pt\; line-height: 22.0875px\; font-family: Aptos\, Aptos_EmbeddedFont\, Aptos_MSFontService\, sans-serif\;" xml:lang="EN-US">Join us as Tech Manitoba celebrates 30 years of building connections\, innovation\, and community!</span></p>\n</div>\n\n<div class="OutlineElement Ltr SCXW125972618 BCX0" style="-webkit-user-drag: none\; -webkit-tap-highlight-color: transparent\; margin: 0px\; padding: 0px\; user-select: text\; clear: both\; cursor: text\; overflow: visible\; position: relative\; direction: ltr\; color: rgb(0\, 0\, 0)\; font-family: &quot\;Segoe UI&quot\;\, &quot\;Segoe UI Web&quot\;\, Arial\, Verdana\, sans-serif\; font-size: 12px\;">\n<p class="Paragraph SCXW125972618 BCX0" paraeid="{f89e8107-0b19-4302-800d-556edf9f24a6}{81}" paraid="680690214" style="-webkit-user-drag: none\; -webkit-tap-highlight-color: transparent\; margin: 16px 0px\; padding: 0px\; user-select: text\; overflow-wrap: break-word\; vertical-align: baseline\; font-kerning: none\; background-color: transparent\; color: windowtext\;"><span class="TextRun SCXW125972618 BCX0" data-contrast="auto" lang="EN-US" style="-webkit-user-drag: none\; -webkit-tap-highlight-color: transparent\; margin: 0px\; padding: 0px\; user-select: text\; font-size: 12pt\; line-height: 22.0875px\; font-family: Aptos\, Aptos_EmbeddedFont\, Aptos_MSFontService\, sans-serif\; font-variant-ligatures: none !important\;" xml:lang="EN-US"><span class="NormalTextRun SCXW125972618 BCX0" style="-webkit-user-drag: none\; -webkit-tap-highlight-color: transparent\; margin: 0px\; padding: 0px\; user-select: text\;">We&rsquo\;re</span><span class="NormalTextRun SCXW125972618 BCX0" style="-webkit-user-drag: none\; -webkit-tap-highlight-color: transparent\; margin: 0px\; padding: 0px\; user-select: text\;">&nbsp\;throwing it back to where it all began\, step into a 90s throwback at Kilter Brewing Co. on Monday\, June 15 from 5:00&ndash\;8:00 PM. This milestone event brings together Manitoba&rsquo\;s tech community from the past\, present\, and future for an evening of nostalgia\, networking\, and celebration.</span></span></p>\n</div>\n\n<div class="OutlineElement Ltr SCXW125972618 BCX0" style="-webkit-user-drag: none\; -webkit-tap-highlight-color: transparent\; margin: 0px\; padding: 0px\; user-select: text\; clear: both\; cursor: text\; overflow: visible\; position: relative\; direction: ltr\; color: rgb(0\, 0\, 0)\; font-family: &quot\;Segoe UI&quot\;\, &quot\;Segoe UI Web&quot\;\, Arial\, Verdana\, sans-serif\; font-size: 12px\;">\n<p class="Paragraph SCXW125972618 BCX0" paraeid="{f89e8107-0b19-4302-800d-556edf9f24a6}{83}" paraid="206038030" style="-webkit-user-drag: none\; -webkit-tap-highlight-color: transparent\; margin: 16px 0px\; padding: 0px\; user-select: text\; overflow-wrap: break-word\; vertical-align: baseline\; font-kerning: none\; background-color: transparent\; color: windowtext\;"><span class="TextRun SCXW125972618 BCX0" data-contrast="auto" lang="EN-US" style="-webkit-user-drag: none\; -webkit-tap-highlight-color: transparent\; margin: 0px\; padding: 0px\; user-select: text\; font-size: 12pt\; line-height: 22.0875px\; font-family: Aptos\, Aptos_EmbeddedFont\, Aptos_MSFontService\, sans-serif\; font-variant-ligatures: none !important\;" xml:lang="EN-US"><span class="NormalTextRun SCXW125972618 BCX0" style="-webkit-user-drag: none\; -webkit-tap-highlight-color: transparent\; margin: 0px\; padding: 0px\; user-select: text\;">Expect retro vibes and a room full of the people who have shaped</span><span class="NormalTextRun SCXW125972618 BCX0" style="-webkit-user-drag: none\; -webkit-tap-highlight-color: transparent\; margin: 0px\; padding: 0px\; user-select: text\;">&nbsp\;</span><span class="NormalTextRun SCXW125972618 BCX0" style="-webkit-user-drag: none\; -webkit-tap-highlight-color: transparent\; margin: 0px\; padding: 0px\; user-select: text\;">the province&rsquo\;s tech ecosystem. Whether&nbsp\;</span><span class="NormalTextRun SCXW125972618 BCX0" style="-webkit-user-drag: none\; -webkit-tap-highlight-color: transparent\; margin: 0px\; padding: 0px\; user-select: text\;">you&rsquo\;ve</span><span class="NormalTextRun SCXW125972618 BCX0" style="-webkit-user-drag: none\; -webkit-tap-highlight-color: transparent\; margin: 0px\; padding: 0px\; user-select: text\;">&nbsp\;been part of the journey for decades or are just getting started\, this is your chance to connect\, celebrate\, and look ahead to&nbsp\;</span><span class="NormalTextRun SCXW125972618 BCX0" style="-webkit-user-drag: none\; -webkit-tap-highlight-color: transparent\; margin: 0px\; padding: 0px\; user-select: text\;">what&rsquo\;s</span><span class="NormalTextRun SCXW125972618 BCX0" style="-webkit-user-drag: none\; -webkit-tap-highlight-color: transparent\; margin: 0px\; padding: 0px\; user-select: text\;">&nbsp\;next.</span></span></p>\n</div>\n\n<div class="OutlineElement Ltr SCXW125972618 BCX0" style="-webkit-user-drag: none\; -webkit-tap-highlight-color: transparent\; margin: 0px\; padding: 0px\; user-select: text\; clear: both\; cursor: text\; overflow: visible\; position: relative\; direction: ltr\; color: rgb(0\, 0\, 0)\; font-family: &quot\;Segoe UI&quot\;\, &quot\;Segoe UI Web&quot\;\, Arial\, Verdana\, sans-serif\; font-size: 12px\;">\n<p class="Paragraph SCXW125972618 BCX0" paraeid="{f89e8107-0b19-4302-800d-556edf9f24a6}{85}" paraid="754726285" style="-webkit-user-drag: none\; -webkit-tap-highlight-color: transparent\; margin: 16px 0px\; padding: 0px\; user-select: text\; overflow-wrap: break-word\; vertical-align: baseline\; font-kerning: none\; background-color: transparent\; color: windowtext\;"><span class="TextRun SCXW125972618 BCX0" data-contrast="auto" lang="EN-US" style="-webkit-user-drag: none\; -webkit-tap-highlight-color: transparent\; margin: 0px\; padding: 0px\; user-select: text\; font-size: 12pt\; line-height: 22.0875px\; font-family: Aptos\, Aptos_EmbeddedFont\, Aptos_MSFontService\, sans-serif\; font-variant-ligatures: none !important\;" xml:lang="EN-US"><span class="NormalTextRun SCXW125972618 BCX0" style="-webkit-user-drag: none\; -webkit-tap-highlight-color: transparent\; margin: 0px\; padding: 0px\; user-select: text\;">Break out your best 90s look:&nbsp\;</span><span class="NormalTextRun SCXW125972618 BCX0" style="-webkit-user-drag: none\; -webkit-tap-highlight-color: transparent\; margin: 0px\; padding: 0px\; user-select: text\;">think denim on denim\, windbreakers\, band tees\, or your favorite throwback style and come raise a glass to 30 years of Tech Manitoba.</span></span></p>\n</div>\n\n<div class="OutlineElement Ltr SCXW125972618 BCX0" style="-webkit-user-drag: none\; -webkit-tap-highlight-color: transparent\; margin: 0px\; padding: 0px\; user-select: text\; clear: both\; cursor: text\; overflow: visible\; position: relative\; direction: ltr\; color: rgb(0\, 0\, 0)\; font-family: &quot\;Segoe UI&quot\;\, &quot\;Segoe UI Web&quot\;\, Arial\, Verdana\, sans-serif\; font-size: 12px\;">\n<p class="Paragraph SCXW125972618 BCX0" paraeid="{f89e8107-0b19-4302-800d-556edf9f24a6}{88}" paraid="305362747" style="-webkit-user-drag: none\; -webkit-tap-highlight-color: transparent\; margin: 16px 0px\; padding: 0px\; user-select: text\; overflow-wrap: break-word\; vertical-align: baseline\; font-kerning: none\; background-color: transparent\; color: windowtext\;"><span class="TextRun SCXW125972618 BCX0" data-contrast="auto" lang="EN-US" style="-webkit-user-drag: none\; -webkit-tap-highlight-color: transparent\; margin: 0px\; padding: 0px\; user-select: text\; font-size: 12pt\; line-height: 22.0875px\; font-family: Aptos\, Aptos_EmbeddedFont\, Aptos_MSFontService\, sans-serif\; font-variant-ligatures: none !important\;" xml:lang="EN-US"><span class="NormalTextRun SCXW125972618 BCX0" style="-webkit-user-drag: none\; -webkit-tap-highlight-color: transparent\; margin: 0px\; padding: 0px\; user-select: text\;">Let&rsquo\;s</span><span class="NormalTextRun SCXW125972618 BCX0" style="-webkit-user-drag: none\; -webkit-tap-highlight-color: transparent\; margin: 0px\; padding: 0px\; user-select: text\;">&nbsp\;celebrate the past and build the future.</span></span></p>\n</div>\n\n<div class="OutlineElement Ltr SCXW125972618 BCX0" style="-webkit-user-drag: none\; -webkit-tap-highlight-color: transparent\; margin: 0px\; padding: 0px\; user-select: text\; clear: both\; cursor: text\; overflow: visible\; position: relative\; direction: ltr\; color: rgb(0\, 0\, 0)\; font-family: &quot\;Segoe UI&quot\;\, &quot\;Segoe UI Web&quot\;\, Arial\, Verdana\, sans-serif\; font-size: 12px\;">\n<p class="Paragraph SCXW125972618 BCX0" paraeid="{f89e8107-0b19-4302-800d-556edf9f24a6}{90}" paraid="1798335007" style="-webkit-user-drag: none\; -webkit-tap-highlight-color: transparent\; margin: 16px 0px\; padding: 0px\; user-select: text\; overflow-wrap: break-word\; vertical-align: baseline\; font-kerning: none\; background-color: transparent\; color: windowtext\;"><span class="TextRun SCXW125972618 BCX0" data-contrast="auto" lang="EN-US" style="-webkit-user-drag: none\; -webkit-tap-highlight-color: transparent\; margin: 0px\; padding: 0px\; user-select: text\; font-variant-ligatures: none !important\; font-size: 12pt\; line-height: 22.0875px\; font-family: Aptos\, Aptos_EmbeddedFont\, Aptos_MSFontService\, sans-serif\; font-weight: bold\;" xml:lang="EN-US">Tickets are complimentary for members and $20 for non-members.&nbsp\;</span></p>\n</div>\n\n<div class="OutlineElement Ltr SCXW125972618 BCX0" style="-webkit-user-drag: none\; -webkit-tap-highlight-color: transparent\; margin: 0px\; padding: 0px\; user-select: text\; clear: both\; cursor: text\; overflow: visible\; position: relative\; direction: ltr\; color: rgb(0\, 0\, 0)\; font-family: &quot\;Segoe UI&quot\;\, &quot\;Segoe UI Web&quot\;\, Arial\, Verdana\, sans-serif\; font-size: 12px\;">\n<p class="Paragraph SCXW125972618 BCX0" paraeid="{f89e8107-0b19-4302-800d-556edf9f24a6}{92}" paraid="1032541585" style="-webkit-user-drag: none\; -webkit-tap-highlight-color: transparent\; margin: 16px 0px\; padding: 0px\; user-select: text\; overflow-wrap: break-word\; vertical-align: baseline\; font-kerning: none\; background-color: transparent\; color: windowtext\;"><span class="TextRun SCXW125972618 BCX0" data-contrast="auto" lang="EN-US" style="-webkit-user-drag: none\; -webkit-tap-highlight-color: transparent\; margin: 0px\; padding: 0px\; user-select: text\; font-variant-ligatures: none !important\; font-size: 12pt\; line-height: 22.0875px\; font-family: Aptos\, Aptos_EmbeddedFont\, Aptos_MSFontService\, sans-serif\;" xml:lang="EN-US"><span class="NormalTextRun SCXW125972618 BCX0" style="-webkit-user-drag: none\; -webkit-tap-highlight-color: transparent\; margin: 0px\; padding: 0px\; user-select: text\;">If&nbsp\;</span><span class="NormalTextRun SCXW125972618 BCX0" style="-webkit-user-drag: none\; -webkit-tap-highlight-color: transparent\; margin: 0px\; padding: 0px\; user-select: text\;">you&rsquo\;re</span><span class="NormalTextRun SCXW125972618 BCX0" style="-webkit-user-drag: none\; -webkit-tap-highlight-color: transparent\; margin: 0px\; padding: 0px\; user-select: text\;">&nbsp\;a member registering for the event\, please ensure&nbsp\;</span><span class="NormalTextRun SCXW125972618 BCX0" style="-webkit-user-drag: none\; -webkit-tap-highlight-color: transparent\; margin: 0px\; padding: 0px\; user-select: text\;">you&rsquo\;re</span><span class="NormalTextRun SCXW125972618 BCX0" style="-webkit-user-drag: none\; -webkit-tap-highlight-color: transparent\; margin: 0px\; padding: 0px\; user-select: text\;">&nbsp\;using the email associated with your corporate profile in MemberZone. If you have any questions\, please contact Shaelynn (<a href="mailto:sstimpson@techmanitoba.ca?subject=30th%20Anniversary">sstimpson@techmanitoba.ca</a>)&nbsp\;</span></span><span class="TextRun SCXW125972618 BCX0" data-contrast="auto" lang="EN-US" style="-webkit-user-drag: none\; -webkit-tap-highlight-color: transparent\; margin: 0px\; padding: 0px\; user-select: text\; font-variant-ligatures: none !important\; font-size: 12pt\; line-height: 22.0875px\; font-family: Aptos\, Aptos_EmbeddedFont\, Aptos_MSFontService\, sans-serif\;" xml:lang="EN-US">or Marie (<a href="mailto:mhacault@techmanitoba.ca?subject=30th%20anniversary%20">mhacault@techmanitoba.ca</a>).</span></p>\n</div>\n
LOCATION:Kilter Brewing Co.
UID:e.9429.1562
SEQUENCE:3
DTSTAMP:20260420T221234Z
URL:https://members.techmanitoba.ca/events/details/tech-manitoba-s-30th-anniversary-1562
END:VEVENT

END:VCALENDAR
