BEGIN:VCALENDAR
VERSION:2.0
PRODID:-//ChamberMaster//Event Calendar 2.0//EN
METHOD:PUBLISH
X-PUBLISHED-TTL:P3D
REFRESH-INTERVAL:P3D
CALSCALE:GREGORIAN
BEGIN:VEVENT
DTSTART:20180329T130000Z
DTEND:20180329T173000Z
X-MICROSOFT-CDO-ALLDAYEVENT:FALSE
SUMMARY:Storytelling is good for business: Craft stories that captivate customers - March 29\, 2018
DESCRIPTION:*For any last minute registrations (after 3pm on March 28) or questions\, please email info@ictam.ca \nHow do you engage audiences that get bombarded with 5000 messages a day?\n\nHow has technology changed digital marketing?\n\nStorytelling is powerful\, potent and proven. Today's marketer must think about story first before selling. Telling a story about how your product or service can help consumers overcome challenges will make it easier for them to see how and why it fits into their lives. This half-day keynote and workshop is packed with unique insights and actionable ideas that show you how to be heard and to how to earn the attention of the people that matter most to you by engaging their 'head\, heart and hands'.\n\n\n\nStories hold the power to connect\, communicate and compel people to act. Learn how to apply storytelling to your marketplace\, through activities drawing upon your personal experiences and business insights.  \n\nBecome part of their story\, versus telling yours.  \n\n\n\nThis workshop is intended for those who find themselves communicating with diverse audiences such as media\, potential investors and donors\, current and prospective customers\, as well as employees.\n\n\n\nA full hot breakfast is included in the ticket price.\n\n\n\nAgenda:\n\n8:00am   9:00am:  Registration and breakfast\n\n9:00am   10:00am:  Keynote - Stop Telling Your Story and Become Part of Mine\n\n10:00am   10:10am:  Break\n\n10:10am   11:00am:  Workshop 1 -  You don't matter unless you matter to me  \n\nLearn how to apply storytelling to your marketplace\, through activities drawing upon your personal experiences and business insights.  \n\n11:00am   11:15am:  Break\n\n11:15am   12:15pm:  Workshop 2 - How to get attention in the Age of Noise  \n\nKey insights will demonstrate how to engage and persuade\, and earn the undivided attention of your customer\n\n12:15pm   12:30pm:  Key Takeaways
X-ALT-DESC;FMTTYPE=text/html:<span style="font-size:14px\;"><em><strong><span style="color:#0000FF\;">*For any last minute registrations (after 3pm on March 28) or questions\, please email </span><a href="mailto:info@ictam.ca ?subject=Tony%20Chapman"><span style="color:#0000FF\;">info@ictam.ca </span></a></strong></em></span>\n<p><strong>How do you engage audiences that get bombarded with 5000 messages a day?<br />\nHow has technology changed digital marketing?</strong></p>\n\n<p>Storytelling is powerful\, potent and proven. Today&rsquo\;s marketer must think about story first before selling. <span data-mce-style="text-decoration: underline\;" style="text-decoration: underline\;">Telling a story about how your product or service can help consumers overcome challenges will make it easier for them to see how and why it fits into their lives.</span> This half-day keynote and workshop is packed with unique insights and actionable ideas that show you how to be heard and to how to earn the attention of the people that matter most to you by engaging their &lsquo\;head\, heart and hands&rsquo\;.<br />\n<br />\nStories hold the power to connect\, communicate and compel people to act. Learn how to apply storytelling to your marketplace\, through activities drawing upon your personal experiences and business insights. &nbsp\;<br />\nBecome part of their story\, versus telling yours. &nbsp\;<br />\n<br />\nThis workshop is intended for those who find themselves communicating with diverse audiences such as media\, potential investors and donors\, current and prospective customers\, as well as employees.<br />\n<br />\n<strong>A full hot breakfast is included in the ticket price.<br />\n<br />\n<strong><span style="text-decoration: underline\;"><em><strong>Agenda:</strong></em></span></strong><br />\n8:00am &ndash\; 9:00am:&nbsp\; </strong>Registration and breakfast<br />\n<strong>9:00am &ndash\; 10:00am</strong>:&nbsp\; Keynote - Stop Telling Your Story and Become Part of Mine<br />\n<strong>10:00am &ndash\; 10:10am:</strong>&nbsp\; Break<br />\n<strong>10:10am &ndash\; 11:00am:</strong>&nbsp\; Workshop 1 -&nbsp\; You don&rsquo\;t matter unless you matter to me &nbsp\;<br />\n<em>Learn how to apply storytelling to your marketplace\, through activities drawing upon your personal experiences and business insights. &nbsp\;</em><br />\n<strong>11:00am &ndash\; 11:15am:</strong>&nbsp\; Break<br />\n<strong>11:15am &ndash\; 12:15pm:&nbsp\;</strong> Workshop 2 - How to get attention in the Age of Noise &nbsp\;<br />\n<em>Key insights will demonstrate how to engage and persuade\, and earn the undivided attention of your customer</em><br />\n<strong>12:15pm &ndash\; 12:30pm:&nbsp\;</strong> Key Takeaways</p>\n
LOCATION:RBC Convention Centre Millennium Suite\, 2nd floor\, North building
UID:e.9429.1047
SEQUENCE:3
DTSTAMP:20260420T103718Z
URL:https://members.techmanitoba.ca/events/details/storytelling-is-good-for-business-craft-stories-that-captivate-customers-march-29-2018-1047
END:VEVENT

END:VCALENDAR
