BEGIN:VCALENDAR
VERSION:2.0
PRODID:-//ChamberMaster//Event Calendar 2.0//EN
METHOD:PUBLISH
X-PUBLISHED-TTL:P3D
REFRESH-INTERVAL:P3D
CALSCALE:GREGORIAN
BEGIN:VEVENT
DTSTART:20180501T130000Z
DTEND:20180501T163000Z
X-MICROSOFT-CDO-ALLDAYEVENT:FALSE
SUMMARY:Serving up Solutions: Hiring Tech Talent - May 1\, 2018
DESCRIPTION:* If you don't have an ICTAM login or have trouble logging in\, email info@ictam.ca for immediate assistance.\n\n \nServing Up Solutions\n\nHiring Tech Talent\n\nAre you experiencing difficulties hiring top tech talent? You're not alone. The demand for software developers\, designers and digital marketers is increasing and hiring the right person is key.\n\nLearn the ins and outs of recruiting top tech talent from an expert panel including Ilya Brotzky\, CEO of VanHack. Over breakfast\, you'll hear his story about partnering talented tech workers from around the world with companies from right here in Winnipeg. After breakfast\, share your knowledge and gather insight during roundtable sessions on recruitment and training. Seating is limited so secure your spot today!
X-ALT-DESC;FMTTYPE=text/html:<span style="color:#FF0000\;"><span style="font-size:14px\;"><em>* If you don&#39\;t have an ICTAM login or have trouble logging in\, email info@ictam.ca for immediate assistance.</em></span></span><br />\n&nbsp\;\n<h3>Serving Up Solutions<br />\nHiring Tech Talent</h3>\n\n<p>Are you experiencing difficulties hiring top tech talent? You&rsquo\;re not alone. The demand for software developers\, designers and digital marketers is increasing and hiring the right person is key.</p>\n\n<p>Learn the ins and outs of recruiting top tech talent from an expert panel including Ilya Brotzky\, CEO of <a data-mce-href="https://www.vanhack.com/" href="https://www.vanhack.com/" rel="noopener noreferrer" target="_blank">VanHack</a>. Over breakfast\, you&rsquo\;ll hear his story about partnering talented tech workers from around the world with companies from right here in Winnipeg. After breakfast\, share your knowledge and gather insight during roundtable sessions on recruitment and training. Seating is limited so secure your spot today!</p>\n
LOCATION:Investors Group Field: Pinnacle Club\, 315 Chancellor Matheson Road
UID:e.9429.1050
SEQUENCE:3
DTSTAMP:20260420T071329Z
URL:https://members.techmanitoba.ca/events/details/serving-up-solutions-hiring-tech-talent-may-1-2018-1050
END:VEVENT

END:VCALENDAR
