BEGIN:VCALENDAR
VERSION:2.0
PRODID:-//ChamberMaster//Event Calendar 2.0//EN
METHOD:PUBLISH
X-PUBLISHED-TTL:P3D
REFRESH-INTERVAL:P3D
CALSCALE:GREGORIAN
BEGIN:VEVENT
DTSTART:20180920T200000Z
DTEND:20180920T230000Z
X-MICROSOFT-CDO-ALLDAYEVENT:FALSE
SUMMARY:Open House at Rudy's
DESCRIPTION:* If you're an ICTAM member in need of login information\, please email membership@ictam.ca\n\n\n\nCome on Over!\n\n \n\nJoin us for refreshing drinks\, great food\, and mingle with ICTAM members at our Open House\, September 20th at Rudy's Eat & Drink.\n\n \n\nWe've got a lot coming up that we can't wait to share!\n\n \n\nAttendance is free for all\, so RSVP now to reserve your spot.\n\n \n\nEvent runs from 3:00pm - 6:00pm (drop in and out as you please). Members and non-members welcome!\n\n \n\nBring your business cards for a chance to win GREAT PRIZES!\n\n\n\nSee you there!
X-ALT-DESC;FMTTYPE=text/html:<em>* If you&#39\;re an ICTAM member in need of login information\, please email membership@ictam.ca</em><br />\n<br />\n<strong>Come on Over!</strong><br />\n&nbsp\;<br />\nJoin us for refreshing drinks\, great food\, and mingle with ICTAM members at our Open House\, <u>September 20th</u> at Rudy&#39\;s Eat &amp\; Drink.<br />\n&nbsp\;<br />\nWe&#39\;ve got a lot coming up that we can&#39\;t wait to share!<br />\n&nbsp\;<br />\nAttendance is free for all\, so RSVP now to reserve your spot.<br />\n&nbsp\;<br />\nEvent runs from 3:00pm - 6:00pm (drop in and out as you please). Members and non-members welcome!<br />\n&nbsp\;<br />\nBring your business cards for a chance to win <strong>GREAT PRIZES!</strong><br />\n<br />\nSee you there!
LOCATION:Rudy's Eat & Drink\, 375 Graham Ave\, Winnipeg We'll be out on the covered patio.
UID:e.9429.1061
SEQUENCE:3
DTSTAMP:20260420T014430Z
URL:https://members.techmanitoba.ca/events/details/open-house-at-rudy-s-1061
END:VEVENT

END:VCALENDAR
