BEGIN:VCALENDAR
VERSION:2.0
PRODID:-//ChamberMaster//Event Calendar 2.0//EN
METHOD:PUBLISH
X-PUBLISHED-TTL:P3D
REFRESH-INTERVAL:P3D
CALSCALE:GREGORIAN
BEGIN:VEVENT
DTSTART:20170419T223000Z
DTEND:20170420T030000Z
X-MICROSOFT-CDO-ALLDAYEVENT:FALSE
SUMMARY:MTS Presents: The Innovators 2017
DESCRIPTION:ICTAM's signature event\, The Innovators\, returns for its 6th incredible year! Join us April 19\, 2017 as we showcase leaders who are inventing the future.  We're delighted to have as our featured guest Janet Bannister\, founder of Kijiji.ca and Partner\, Real Ventures.  Join Janet and our host Allan Gregg for a robust conversation on innovation and how technology is shaping businesses now and in the future.
X-ALT-DESC;FMTTYPE=text/html:ICTAM&rsquo\;s signature event\, The Innovators\, returns for its 6th incredible year! Join us April 19\, 2017 as we showcase leaders who are inventing the future.&nbsp\; We&rsquo\;re delighted to have as our featured guest Janet Bannister\, founder of Kijiji.ca and Partner\, Real Ventures.&nbsp\; Join Janet and our host Allan Gregg for a robust conversation on innovation and how technology is shaping businesses now and in the future.
LOCATION:RBC Convention Centre\, 2nd floor\, North Building (by the escalators) 375 York Avenue\, Winnipeg\, MB
UID:e.9429.26
SEQUENCE:3
DTSTAMP:20260421T060536Z
URL:https://members.techmanitoba.ca/events/details/mts-presents-the-innovators-2017-26
END:VEVENT

END:VCALENDAR
