BEGIN:VCALENDAR
VERSION:2.0
PRODID:-//ChamberMaster//Event Calendar 2.0//EN
METHOD:PUBLISH
X-PUBLISHED-TTL:P3D
REFRESH-INTERVAL:P3D
CALSCALE:GREGORIAN
BEGIN:VEVENT
DTSTART:20161017T130000Z
DTEND:20161019T210000Z
X-MICROSOFT-CDO-ALLDAYEVENT:FALSE
SUMMARY:Maximizing Big Data with Business Analytics (3 day session)
DESCRIPTION:The Maximizing Big Data with Business Analytics seminar is for any manager in companies\, government agencies\, and NGOs. This program covers all the major aspects of big data including a day on conducting business analytics with statistics and interpreting the results. Over three days of training\, participants will learn the ins-and-outs of business analytics to enhance decision-making.\n\nDesigned by Dr. Donald L. Amoroso\, Lowder-Weil Endowed Chair of Innovation and Strategy and Professor Information Systems at Auburn University Montgomery\, the instructor has consulted with 53 organizations working with CEOs and CIOs to develop and execute leadership and strategic planning efforts primarily in Japan\, Philippines\, Canada and Mexico. Additionally\, he has taught extensively in executive MBA classes in university and corporate settings and has worked with c-level managers in developing their strategy and implementation plans.
X-ALT-DESC;FMTTYPE=text/html:<p><strong>The Maximizing Big Data with Business Analytics</strong> seminar is for any manager in companies\, government agencies\, and NGOs. This program covers all the major aspects of big data including a day on conducting business analytics with statistics and interpreting the results. Over three days of training\, participants will learn the ins-and-outs of business analytics to enhance decision-making.</p>\n\n<p>Designed by Dr. Donald L. Amoroso\, Lowder-Weil Endowed Chair of Innovation and Strategy and Professor Information Systems at Auburn University Montgomery\, the instructor has consulted with 53 organizations working with CEOs and CIOs to develop and execute leadership and strategic planning efforts primarily in Japan\, Philippines\, Canada and Mexico. Additionally\, he has taught extensively in executive MBA classes in university and corporate settings and has worked with c-level managers in developing their strategy and implementation plans.</p>\n
LOCATION:ICTAM\, 435 Ellice Ave (NRC Building)
UID:e.9429.19
SEQUENCE:3
DTSTAMP:20260421T161211Z
URL:https://members.techmanitoba.ca/events/details/maximizing-big-data-with-business-analytics-3-day-session-19
END:VEVENT

END:VCALENDAR
