BEGIN:VCALENDAR
VERSION:2.0
PRODID:-//ChamberMaster//Event Calendar 2.0//EN
METHOD:PUBLISH
X-PUBLISHED-TTL:P3D
REFRESH-INTERVAL:P3D
CALSCALE:GREGORIAN
BEGIN:VEVENT
DTSTART:20180809T200000Z
DTEND:20180809T220000Z
X-MICROSOFT-CDO-ALLDAYEVENT:FALSE
SUMMARY:Maven Launch Party - August 9th\, 2018
DESCRIPTION:* This is a free event\, so if you don't have an ICTAM login\, just register above under the non-member form\, or email stownsend@ictam.ca for login information.\n\n\n\nCome celebrate the launch of Maven! ICTAM continues its commitment to gender parity in the tech sector with this brand new initiative. Join the conversation on how we can continue to support\, connect\, and encourage women in ICT/STEM. Enjoy compelling conversations\, delicious appetizers\, and possibly win a prize! Equality starts with conversation   everyone welcome.
X-ALT-DESC;FMTTYPE=text/html:<span style="font-size:14px\;"><em>* This is a free event\, so if you don&#39\;t have an ICTAM login\, just register above under the non-member form\, or email stownsend@ictam.ca for login information.</em></span><br />\n<br />\nCome celebrate the launch of Maven! ICTAM continues its commitment to gender parity in the tech sector with this brand new initiative. Join the conversation on how we can continue to support\, connect\, and encourage women in ICT/STEM. Enjoy compelling conversations\, delicious appetizers\, and possibly win a prize! Equality starts with conversation &ndash\; everyone welcome.<br />\n&nbsp\;
LOCATION:La Carnita - 456 Main Street
UID:e.9429.1058
SEQUENCE:3
DTSTAMP:20260420T033502Z
URL:https://members.techmanitoba.ca/events/details/maven-launch-party-august-9th-2018-1058
END:VEVENT

END:VCALENDAR
