BEGIN:VCALENDAR
VERSION:2.0
PRODID:-//ChamberMaster//Event Calendar 2.0//EN
METHOD:PUBLISH
X-PUBLISHED-TTL:P3D
REFRESH-INTERVAL:P3D
CALSCALE:GREGORIAN
BEGIN:VEVENT
DTSTART:20190115T153000Z
DTEND:20190115T173000Z
X-MICROSOFT-CDO-ALLDAYEVENT:FALSE
SUMMARY:Maven and UCN Roundtable: Women in Technology
DESCRIPTION:In 2017\, a Dell report said that 85 per cent of jobs that will exist in 2030 haven't been invented yet. Technology is the future\, yet currently\, in Manitoba\, only 27 per cent of women work in the technology sector. \n\n\n\nMaven is ICTAM's latest initiative that is committed to the attraction\, retention and advancement of women in technology. \n\n\n\nWe invite you to join our roundtable discussion to tell us about your experience with the technology sector. Your voice will help Maven in its work towards gender parity in Manitoba's technology community.\n\n\n\n* This is a free event\, if you don't have an ICTAM login\, just register above under the guest log-in.
X-ALT-DESC;FMTTYPE=text/html:In 2017\, a Dell report said that 85 per cent of jobs that will exist in 2030 haven&#39\;t been invented yet. Technology&nbsp\;is the future\, yet currently\,&nbsp\;in Manitoba\, only 27 per cent of women work&nbsp\;in the technology sector.&nbsp\;<br />\n<br />\nMaven is ICTAM&#39\;s latest initiative that is committed to the attraction\, retention and advancement of women in technology.&nbsp\;<br />\n<br />\nWe invite you to join our roundtable discussion to tell us about your experience with the technology sector. Your&nbsp\;voice will help Maven in its work towards gender parity in Manitoba&#39\;s technology community.<br />\n<br />\n<em style="font-size: 14px\;">* This is a free event\, if you don&#39\;t have an ICTAM login\, just register above under the guest log-in.</em>
LOCATION:University College of the North (UCN) Thompson Campus Room 409\, 4th Floor
UID:e.9429.1077
SEQUENCE:3
DTSTAMP:20260419T170941Z
URL:https://members.techmanitoba.ca/events/details/maven-and-ucn-roundtable-women-in-technology-1077
END:VEVENT

END:VCALENDAR
