BEGIN:VCALENDAR
VERSION:2.0
PRODID:-//ChamberMaster//Event Calendar 2.0//EN
METHOD:PUBLISH
X-PUBLISHED-TTL:P3D
REFRESH-INTERVAL:P3D
CALSCALE:GREGORIAN
BEGIN:VEVENT
DTSTART;VALUE=DATE:20171106
DTEND;VALUE=DATE:20171109
TRANSP:TRANSPARENT
X-MICROSOFT-CDO-ALLDAYEVENT:TRUE
SUMMARY:IT Project Management - Nov 6-8\, 2017
DESCRIPTION:You may be an IT professional new to project management or a manager who wants to develop more robust project management skills. This 2.5 day course will introduce you to the fundamentals of project management\, specifically as they apply to the field of information technology (IT).  IT project management includes overseeing projects for software development\, hardware installations\, network upgrades\, cloud computing and virtualization rollouts\, business analytics and data management projects and implementing IT services.\n\n\n\nWhen dealing with IT projects\, using specialised project management techniques will be very beneficial to your progress leading to a higher success rate. In this IT project management course\, discover how to optimize IT development and delivery processes so that you can bring information technology projects online more effectively\, more quickly and on budget.\n\nHow You Will Benefit:\n\n   Maintain control of your information technology projects with proven scheduling techniques\n\n   Deliver quality systems on time\n\n   Plan for the unexpected\n\n   Budget more effectively\n\n   Keep conflict at a minimum\n\n   Expertly use PM software tools to manage information technology projects
X-ALT-DESC;FMTTYPE=text/html:<p>You may be an IT professional new to project management or a manager who wants to develop more robust project management skills. This 2.5 day course will introduce you to the fundamentals of project management\, specifically as they apply to the field of information technology (IT).&nbsp\; IT project management includes overseeing projects for software development\, hardware installations\, network upgrades\, cloud computing and virtualization rollouts\, business analytics and data management projects and implementing IT services.<br />\n<br />\nWhen dealing with IT projects\, using specialised project management techniques will be very beneficial to your progress leading to a higher success rate. In this IT project management course\, discover how to optimize IT development and delivery processes so that you can bring information technology projects online more effectively\, more quickly and on budget.</p>\n\n<p><span data-mce-style="text-decoration: underline\;" style="text-decoration: underline\;">How You Will Benefit:</span><br />\n&bull\;&nbsp\; Maintain control of your information technology projects with proven scheduling techniques<br />\n&bull\;&nbsp\; Deliver quality systems on time<br />\n&bull\;&nbsp\; Plan for the unexpected<br />\n&bull\;&nbsp\; Budget more effectively<br />\n&bull\;&nbsp\; Keep conflict at a minimum<br />\n&bull\;&nbsp\; Expertly use PM software tools to manage information technology projects</p>\n
LOCATION:435 Ellice Ave
UID:e.9429.1031
SEQUENCE:3
DTSTAMP:20260420T172636Z
URL:https://members.techmanitoba.ca/events/details/it-project-management-nov-6-8-2017-1031
END:VEVENT

END:VCALENDAR
