BEGIN:VCALENDAR
VERSION:2.0
PRODID:-//ChamberMaster//Event Calendar 2.0//EN
METHOD:PUBLISH
X-PUBLISHED-TTL:P3D
REFRESH-INTERVAL:P3D
CALSCALE:GREGORIAN
BEGIN:VEVENT
DTSTART:20180308T170000Z
DTEND:20180308T190000Z
X-MICROSOFT-CDO-ALLDAYEVENT:FALSE
SUMMARY:International Women's Day: keynote from Microsoft's Vaz Rosario
DESCRIPTION:*If you forgot your ICTAM password\, login using the E-mail field. Otherwise\, email info@ictam.ca for immediate assistance.\n\n\n\nVaz Rosario overcame unimaginable challenges to become a successful manager at the headquarters of one of the world's largest information technology companies\, Microsoft.\n\nThanks to her own gritty determination and some mentors who recognized her extraordinary potential\, Vaz was able to secure a job at Microsoft and rise through the ranks to become a Senior Manager\, accountable for their worldwide Core Hybrid Cloud Services.\n\n\n\nLearn more about Vaz's inspiring story and connect with champions in Manitoba's tech industry at our International Women's Day event\, March 8. Men are (of course!) welcome\, but we encourage you to bring a female with you.
X-ALT-DESC;FMTTYPE=text/html:<span style="font-size:14px\;"><em><span style="color:#FF0000\;"><strong>*If you forgot your ICTAM password\, login using the E-mail field. Otherwise\, email info@ictam.ca for immediate assistance.</strong></span></em></span><br />\n<br />\nVaz Rosario overcame unimaginable challenges to become a successful manager at the headquarters of one of the world&rsquo\;s largest information technology companies\, Microsoft.<br />\nThanks to her own gritty determination and some mentors who recognized her extraordinary potential\, Vaz was able to secure a job at Microsoft and rise through the ranks to become a Senior Manager\, accountable for their worldwide Core Hybrid Cloud Services.<br />\n<br />\nLearn more about Vaz&rsquo\;s inspiring story and connect with champions in Manitoba&rsquo\;s tech industry at our International Women&rsquo\;s Day event\, March 8. Men are (of course!) welcome\, but we encourage you to bring a female with you.
LOCATION:Manitoba Institute of Trades and Technology 130 Henlow Bay
UID:e.9429.1045
SEQUENCE:3
DTSTAMP:20260420T104220Z
URL:https://members.techmanitoba.ca/events/details/international-women-s-day-keynote-from-microsoft-s-vaz-rosario-1045
END:VEVENT

END:VCALENDAR
