BEGIN:VCALENDAR
VERSION:2.0
PRODID:-//ChamberMaster//Event Calendar 2.0//EN
METHOD:PUBLISH
X-PUBLISHED-TTL:P3D
REFRESH-INTERVAL:P3D
CALSCALE:GREGORIAN
BEGIN:VEVENT
DTSTART:20250224T230000Z
DTEND:20250225T033000Z
X-MICROSOFT-CDO-ALLDAYEVENT:FALSE
SUMMARY:Ignition: MbTech Week Launch Party
DESCRIPTION:Buy Tickets Here \n\n\n\n \n\n\nKick off #MbTechWeek2025 in style with Ignition: MbTech Week Launch Party! Join us for a powerful evening of networking\, thought-provoking discussions\, and celebration as we come together to spotlight technology's transformative potential in Manitoba. Whether you're a tech enthusiast\, entrepreneur\, investor\, student\, or business professional\, Ignition is the event to fuel your drive for innovation and growth. \n \n\nEvent Highlights: \n\nPanel Discussion: Risk\, Reward\, Repeat - Dare to Ignite Success Listen to successful business leaders who have made bold moves\, embracing digital transformation to achieve remarkable results. Discover how breaking away from Manitoba's traditionally risk-averse mindset can lead to innovation\, growth\, and a competitive edge in the modern landscape. \n\n \n\n \n\n\n\n\n\n\n\nTickets: NEW Lower prices\n\n \n\nEarly Bird Ticket (Until Dec 31)\n\n\n\n	Tech MB Member Ticket: $175 *Promo Code\n	Non Member: $225 (non-member) \n\n\n\nRegular Ticket\n\n \n\n\n\n	Tech MB Member Ticket: $200  *Promo Code \n	Non Member: $250 (non-member)\n\n*Contact sstimpson@techmanitoba.ca for the promo code  \n\n \n\nYour Ticket Includes:\n\n\n\n	Exclusive networking with Manitoba's dynamic business and tech communities\n	Open bar & dinner at interactive food stations\n	An inspiring start to #MbTechWeek2025 and a chance to make lasting connections\n\n\n\n \n\n\n\n\n\n\n\nWhen & Where:\n\n \n\n  February 24\, 2025\n\n  5:00 PM   9:30 PM\n\n  Delta Hotel\, Winnipeg \n\n \n\n \n\n \n\n\n\n\n\n\nAgenda:\n\n\n\n	5:00 PM: Event Starts & Bar Opens\n	Welcome Messages\n	Panel Discussion: Risk\, Reward\, Repeat\n	Audience Q&A\n	After Party \n	Open Bar & Food Stations\n	9:30 PM: Event Ends \n\n\n\n\n\n\n\n\n\nTicket sales close February 2\, 2025\nDon't miss your chance to ignite new ideas\, build valuable connections\, and kickstart an unforgettable #MbTechWeek2025!\n\n \n\n \n\n \n\n\n\n\n\n\nSponsorship Opportunities available\n\n \n\nContact Tech Manitoba's Event Manager Shaelynn Stimpson to learn more sstimpson@techmanitoba.ca \n\n \n\n\n\n\n\n\nThank you to Our Sponsors\n\n \n\nAfter Party Sponsor: Exchange Technology Services
X-ALT-DESC;FMTTYPE=text/html:<br />\n<br />\n<strong><a href="https://3common.com/ignition2025" target="_blank">Buy Tickets Here</a></strong><a href="https://3common.com/ignition2025" target="_blank"><strong>&nbsp\;</strong></a><br />\n<br />\n&nbsp\;\n<div style="box-sizing: inherit\; -webkit-tap-highlight-color: transparent\; color: rgb(0\, 0\, 0)\; font-family: medium\; font-size: 20px\;" translate="no">\n<div style="box-sizing: inherit\; -webkit-tap-highlight-color: transparent\;">\n<div class="description__content" style="box-sizing: inherit\; -webkit-tap-highlight-color: transparent\;">Kick off #MbTechWeek2025 in style with<b style="box-sizing: inherit\; -webkit-tap-highlight-color: transparent\;">&nbsp\;Ignition: MbTech Week Launch Party</b>! Join us for a powerful evening of networking\, thought-provoking discussions\, and celebration as we come together to spotlight technology&rsquo\;s transformative potential in Manitoba. Whether you&rsquo\;re a tech enthusiast\, entrepreneur\, investor\, student\, or business professional\, Ignition is the event to fuel your drive for innovation and growth.&nbsp\;\n<div style="box-sizing: inherit\; -webkit-tap-highlight-color: transparent\; margin: auto !important\; line-height: inherit !important\; font-size: inherit !important\; font-family: inherit !important\;">&nbsp\;</div>\n\n<div style="box-sizing: inherit\; -webkit-tap-highlight-color: transparent\; margin: auto !important\; line-height: inherit !important\; font-size: inherit !important\; font-family: inherit !important\;"><b style="box-sizing: inherit\; -webkit-tap-highlight-color: transparent\;"><u style="box-sizing: inherit\; -webkit-tap-highlight-color: transparent\;">Event Highlights:&nbsp\;</u></b></div>\n\n<div style="box-sizing: inherit\; -webkit-tap-highlight-color: transparent\; margin: auto !important\; line-height: inherit !important\; font-size: inherit !important\; font-family: inherit !important\;">Panel Discussion: Risk\, Reward\, Repeat - Dare to Ignite Success Listen to successful business leaders who have made bold moves\, embracing digital transformation to achieve remarkable results. Discover how breaking away from Manitoba&rsquo\;s traditionally risk-averse mindset can lead to innovation\, growth\, and a competitive edge in the modern landscape.&nbsp\;</div>\n\n<div style="box-sizing: inherit\; -webkit-tap-highlight-color: transparent\; margin: auto !important\; line-height: inherit !important\; font-size: inherit !important\; font-family: inherit !important\;">&nbsp\;</div>\n\n<div style="box-sizing: inherit\; -webkit-tap-highlight-color: transparent\; margin: auto !important\; line-height: inherit !important\; font-size: inherit !important\; font-family: inherit !important\;">&nbsp\;</div>\n</div>\n</div>\n</div>\n\n<div style="box-sizing: inherit\; -webkit-tap-highlight-color: transparent\; color: rgb(0\, 0\, 0)\; font-family: medium\; font-size: 20px\;" translate="no">\n<div style="box-sizing: inherit\; -webkit-tap-highlight-color: transparent\;">\n<div class="description__content" style="box-sizing: inherit\; -webkit-tap-highlight-color: transparent\;">\n<div style="box-sizing: inherit\; -webkit-tap-highlight-color: transparent\; margin: auto !important\; line-height: inherit !important\; font-size: inherit !important\; font-family: inherit !important\;"><b style="box-sizing: inherit\; -webkit-tap-highlight-color: transparent\;"><u style="box-sizing: inherit\; -webkit-tap-highlight-color: transparent\;">Tickets: NEW Lower prices</u></b></div>\n\n<div style="box-sizing: inherit\; -webkit-tap-highlight-color: transparent\; margin: auto !important\; line-height: inherit !important\; font-size: inherit !important\; font-family: inherit !important\;">&nbsp\;</div>\n\n<div style="box-sizing: inherit\; -webkit-tap-highlight-color: transparent\; margin: auto !important\; line-height: inherit !important\; font-size: inherit !important\; font-family: inherit !important\;"><b style="box-sizing: inherit\; -webkit-tap-highlight-color: transparent\;">Early Bird Ticket (Until Dec 31)</b></div>\n\n<div style="box-sizing: inherit\; -webkit-tap-highlight-color: transparent\; margin: auto !important\; line-height: inherit !important\; font-size: inherit !important\; font-family: inherit !important\;">\n<ul style="box-sizing: inherit\; -webkit-tap-highlight-color: transparent\;">\n	<li style="box-sizing: inherit\; -webkit-tap-highlight-color: transparent\;">Tech MB Member Ticket: $175&nbsp\;<font size="2" style="box-sizing: inherit\; -webkit-tap-highlight-color: transparent\;">*Promo Code</font></li>\n	<li style="box-sizing: inherit\; -webkit-tap-highlight-color: transparent\;">Non Member: $225 (non-member)&nbsp\;</li>\n</ul>\n</div>\n\n<div style="box-sizing: inherit\; -webkit-tap-highlight-color: transparent\; margin: auto !important\; line-height: inherit !important\; font-size: inherit !important\; font-family: inherit !important\;"><b style="box-sizing: inherit\; -webkit-tap-highlight-color: transparent\;">Regular Ticket</b></div>\n\n<div style="box-sizing: inherit\; -webkit-tap-highlight-color: transparent\; margin: auto !important\; line-height: inherit !important\; font-size: inherit !important\; font-family: inherit !important\;">&nbsp\;</div>\n\n<div style="box-sizing: inherit\; -webkit-tap-highlight-color: transparent\; margin: auto !important\; line-height: inherit !important\; font-size: inherit !important\; font-family: inherit !important\;">\n<ul style="box-sizing: inherit\; -webkit-tap-highlight-color: transparent\;">\n	<li style="box-sizing: inherit\; -webkit-tap-highlight-color: transparent\;"><span style="box-sizing: inherit\; -webkit-tap-highlight-color: transparent\; font-family: inherit\; font-size: inherit\; color: var(--q-dark)\; letter-spacing: 0px\;">Tech MB Member Ticket: $200&nbsp\;&nbsp\;</span><span style="box-sizing: inherit\; -webkit-tap-highlight-color: transparent\; font-family: inherit\; color: var(--q-dark)\; letter-spacing: 0px\;"><font size="2" style="box-sizing: inherit\; -webkit-tap-highlight-color: transparent\;">*Promo Code&nbsp\;</font></span></li>\n	<li style="box-sizing: inherit\; -webkit-tap-highlight-color: transparent\;">Non Member: $250 (non-member)</li>\n</ul>\n<span style="box-sizing: inherit\; -webkit-tap-highlight-color: transparent\; font-family: inherit\; color: var(--q-dark)\; letter-spacing: 0px\;"><font size="2" style="box-sizing: inherit\; -webkit-tap-highlight-color: transparent\;">*Contact sstimpson@techmanitoba.ca for the promo code&nbsp\;</font></span><span style="box-sizing: inherit\; -webkit-tap-highlight-color: transparent\; font-family: inherit\; font-size: inherit\; color: var(--q-dark)\; letter-spacing: 0px\;">&nbsp\;</span></div>\n\n<div style="box-sizing: inherit\; -webkit-tap-highlight-color: transparent\; margin: auto !important\; line-height: inherit !important\; font-size: inherit !important\; font-family: inherit !important\;">&nbsp\;</div>\n\n<div style="box-sizing: inherit\; -webkit-tap-highlight-color: transparent\; margin: auto !important\; line-height: inherit !important\; font-size: inherit !important\; font-family: inherit !important\;"><b style="box-sizing: inherit\; -webkit-tap-highlight-color: transparent\;">Your Ticket Includes:</b>\n\n<div style="box-sizing: inherit\; -webkit-tap-highlight-color: transparent\; margin: auto !important\; line-height: inherit !important\; font-size: inherit !important\; font-family: inherit !important\;">\n<ul style="box-sizing: inherit\; -webkit-tap-highlight-color: transparent\;">\n	<li style="box-sizing: inherit\; -webkit-tap-highlight-color: transparent\;">Exclusive networking with Manitoba&rsquo\;s dynamic business and tech communities</li>\n	<li style="box-sizing: inherit\; -webkit-tap-highlight-color: transparent\;">Open bar &amp\; dinner at interactive food stations</li>\n	<li style="box-sizing: inherit\; -webkit-tap-highlight-color: transparent\;">An inspiring start to #MbTechWeek2025 and a chance to make lasting connections</li>\n</ul>\n</div>\n\n<div style="box-sizing: inherit\; -webkit-tap-highlight-color: transparent\; margin: auto !important\; line-height: inherit !important\; font-size: inherit !important\; font-family: inherit !important\;">&nbsp\;</div>\n</div>\n</div>\n</div>\n</div>\n\n<div style="box-sizing: inherit\; -webkit-tap-highlight-color: transparent\; color: rgb(0\, 0\, 0)\; font-family: medium\; font-size: 20px\;" translate="no">\n<div style="box-sizing: inherit\; -webkit-tap-highlight-color: transparent\;">\n<div class="description__content" style="box-sizing: inherit\; -webkit-tap-highlight-color: transparent\;"><b style="box-sizing: inherit\; -webkit-tap-highlight-color: transparent\;"><u style="box-sizing: inherit\; -webkit-tap-highlight-color: transparent\;">When &amp\; Where:</u></b>\n\n<div style="box-sizing: inherit\; -webkit-tap-highlight-color: transparent\; margin: auto !important\; line-height: inherit !important\; font-size: inherit !important\; font-family: inherit !important\;">&nbsp\;</div>\n\n<div style="box-sizing: inherit\; -webkit-tap-highlight-color: transparent\; margin: auto !important\; line-height: inherit !important\; font-size: inherit !important\; font-family: inherit !important\;">&#128197\; February 24\, 2025</div>\n\n<div style="box-sizing: inherit\; -webkit-tap-highlight-color: transparent\; margin: auto !important\; line-height: inherit !important\; font-size: inherit !important\; font-family: inherit !important\;">&#128340\; 5:00 PM &ndash\; 9:30 PM</div>\n\n<div style="box-sizing: inherit\; -webkit-tap-highlight-color: transparent\; margin: auto !important\; line-height: inherit !important\; font-size: inherit !important\; font-family: inherit !important\;">&#128205\; Delta Hotel\, Winnipeg&nbsp\;</div>\n\n<div style="box-sizing: inherit\; -webkit-tap-highlight-color: transparent\; margin: auto !important\; line-height: inherit !important\; font-size: inherit !important\; font-family: inherit !important\;">&nbsp\;</div>\n\n<div style="box-sizing: inherit\; -webkit-tap-highlight-color: transparent\; margin: auto !important\; line-height: inherit !important\; font-size: inherit !important\; font-family: inherit !important\;">&nbsp\;</div>\n\n<div style="box-sizing: inherit\; -webkit-tap-highlight-color: transparent\; margin: auto !important\; line-height: inherit !important\; font-size: inherit !important\; font-family: inherit !important\;">&nbsp\;</div>\n</div>\n</div>\n</div>\n\n<div style="box-sizing: inherit\; -webkit-tap-highlight-color: transparent\; color: rgb(0\, 0\, 0)\; font-family: medium\; font-size: 20px\;" translate="no">\n<div style="box-sizing: inherit\; -webkit-tap-highlight-color: transparent\;">\n<div class="description__content" style="box-sizing: inherit\; -webkit-tap-highlight-color: transparent\;"><b style="box-sizing: inherit\; -webkit-tap-highlight-color: transparent\;"><u style="box-sizing: inherit\; -webkit-tap-highlight-color: transparent\;">Agenda:</u></b>\n\n<div style="box-sizing: inherit\; -webkit-tap-highlight-color: transparent\; margin: auto !important\; line-height: inherit !important\; font-size: inherit !important\; font-family: inherit !important\;">\n<ul style="box-sizing: inherit\; -webkit-tap-highlight-color: transparent\;">\n	<li style="box-sizing: inherit\; -webkit-tap-highlight-color: transparent\;">5:00 PM: Event Starts &amp\; Bar Opens</li>\n	<li style="box-sizing: inherit\; -webkit-tap-highlight-color: transparent\;">Welcome Messages</li>\n	<li style="box-sizing: inherit\; -webkit-tap-highlight-color: transparent\;">Panel Discussion: Risk\, Reward\, Repeat</li>\n	<li style="box-sizing: inherit\; -webkit-tap-highlight-color: transparent\;">Audience Q&amp\;A</li>\n	<li style="box-sizing: inherit\; -webkit-tap-highlight-color: transparent\;"><b style="box-sizing: inherit\; -webkit-tap-highlight-color: transparent\;">After Party&nbsp\;</b></li>\n	<li style="box-sizing: inherit\; -webkit-tap-highlight-color: transparent\;">Open Bar &amp\; Food Stations</li>\n	<li style="box-sizing: inherit\; -webkit-tap-highlight-color: transparent\;">9:30 PM: Event Ends&nbsp\;</li>\n</ul>\n</div>\n</div>\n</div>\n</div>\n\n<div style="box-sizing: inherit\; -webkit-tap-highlight-color: transparent\; color: rgb(0\, 0\, 0)\; font-family: medium\; font-size: 20px\;" translate="no">\n<div style="box-sizing: inherit\; -webkit-tap-highlight-color: transparent\;">\n<div class="description__content" style="box-sizing: inherit\; -webkit-tap-highlight-color: transparent\;">\n<div style="box-sizing: inherit\; -webkit-tap-highlight-color: transparent\; margin: auto !important\; line-height: inherit !important\; font-size: inherit !important\; font-family: inherit !important\;"><b style="box-sizing: inherit\; -webkit-tap-highlight-color: transparent\;">Ticket sales close February 2\, 2025</b></div>\nDon&rsquo\;t miss your chance to ignite new ideas\, build valuable connections\, and kickstart an unforgettable #MbTechWeek2025!\n\n<div style="box-sizing: inherit\; -webkit-tap-highlight-color: transparent\; margin: auto !important\; line-height: inherit !important\; font-size: inherit !important\; font-family: inherit !important\;">&nbsp\;</div>\n\n<div style="box-sizing: inherit\; -webkit-tap-highlight-color: transparent\; margin: auto !important\; line-height: inherit !important\; font-size: inherit !important\; font-family: inherit !important\;">&nbsp\;</div>\n\n<div style="box-sizing: inherit\; -webkit-tap-highlight-color: transparent\; margin: auto !important\; line-height: inherit !important\; font-size: inherit !important\; font-family: inherit !important\;">&nbsp\;</div>\n</div>\n</div>\n</div>\n\n<div style="box-sizing: inherit\; -webkit-tap-highlight-color: transparent\; color: rgb(0\, 0\, 0)\; font-family: medium\; font-size: 20px\;" translate="no">\n<div style="box-sizing: inherit\; -webkit-tap-highlight-color: transparent\;">\n<div class="description__content" style="box-sizing: inherit\; -webkit-tap-highlight-color: transparent\;"><b style="box-sizing: inherit\; -webkit-tap-highlight-color: transparent\;">Sponsorship Opportunities available</b>\n\n<div style="box-sizing: inherit\; -webkit-tap-highlight-color: transparent\; margin: auto !important\; line-height: inherit !important\; font-size: inherit !important\; font-family: inherit !important\;">&nbsp\;</div>\n\n<div style="box-sizing: inherit\; -webkit-tap-highlight-color: transparent\; margin: auto !important\; line-height: inherit !important\; font-size: inherit !important\; font-family: inherit !important\;">Contact Tech Manitoba&#39\;s Event Manager Shaelynn Stimpson to learn more sstimpson@techmanitoba.ca&nbsp\;</div>\n\n<div style="box-sizing: inherit\; -webkit-tap-highlight-color: transparent\; margin: auto !important\; line-height: inherit !important\; font-size: inherit !important\; font-family: inherit !important\;">&nbsp\;</div>\n</div>\n</div>\n</div>\n\n<div style="box-sizing: inherit\; -webkit-tap-highlight-color: transparent\; color: rgb(0\, 0\, 0)\; font-family: medium\; font-size: 20px\;" translate="no">\n<div style="box-sizing: inherit\; -webkit-tap-highlight-color: transparent\;">\n<div class="description__content" style="box-sizing: inherit\; -webkit-tap-highlight-color: transparent\;"><b style="box-sizing: inherit\; -webkit-tap-highlight-color: transparent\;">Thank you to Our Sponsors</b>\n\n<div style="box-sizing: inherit\; -webkit-tap-highlight-color: transparent\; margin: auto !important\; line-height: inherit !important\; font-size: inherit !important\; font-family: inherit !important\;">&nbsp\;</div>\n\n<div style="box-sizing: inherit\; -webkit-tap-highlight-color: transparent\; margin: auto !important\; line-height: inherit !important\; font-size: inherit !important\; font-family: inherit !important\;">After Party Sponsor:&nbsp\;<font face="inherit" style="box-sizing: inherit\; -webkit-tap-highlight-color: transparent\;"><span style="box-sizing: inherit\; -webkit-tap-highlight-color: transparent\; letter-spacing: 0px\;"><a href="https://www.exchangetech.ca/" style="box-sizing: inherit\; -webkit-tap-highlight-color: transparent\; color: var(--q-info)\;">Exchange Technology Services&nbsp\;</a></span></font></div>\n\n<div style="box-sizing: inherit\; -webkit-tap-highlight-color: transparent\; margin: auto !important\; line-height: inherit !important\; font-size: inherit !important\; font-family: inherit !important\;">&nbsp\;</div>\n</div>\n</div>\n</div>\n\n<div style="box-sizing: inherit\; -webkit-tap-highlight-color: transparent\; color: rgb(0\, 0\, 0)\; font-family: medium\; font-size: 20px\;" translate="no">\n<div style="box-sizing: inherit\; -webkit-tap-highlight-color: transparent\;">\n<div class="q-img q-img--menu q-mt-md" role="img" style="box-sizing: inherit\; -webkit-tap-highlight-color: transparent\; position: relative\; width: 574px\; display: inline-block\; vertical-align: middle\; overflow: hidden\; margin-top: 16px\; border-radius: 8px\;">&nbsp\;</div>\n</div>\n</div>\n
LOCATION:Delta Winnipeg 350 St Mary Ave
UID:e.9429.1422
SEQUENCE:3
DTSTAMP:20260421T020038Z
URL:https://members.techmanitoba.ca/events/details/ignition-mbtech-week-launch-party-1422
END:VEVENT

END:VCALENDAR
