BEGIN:VCALENDAR
VERSION:2.0
PRODID:-//ChamberMaster//Event Calendar 2.0//EN
METHOD:PUBLISH
X-PUBLISHED-TTL:P3D
REFRESH-INTERVAL:P3D
CALSCALE:GREGORIAN
BEGIN:VEVENT
DTSTART:20161005T200000Z
DTEND:20161005T220000Z
X-MICROSOFT-CDO-ALLDAYEVENT:FALSE
SUMMARY:ICTAM Open House at The Pint
DESCRIPTION:Mix It Up!\n\n\n\nWho wants to slip out of the office a little early on a Wednesday for a beer and some tech talk? Umm\, we do.\n\n\n\nOn October 5\, we're heading over to The Pint to sip some beer\, snack on some wings and mingle with ICTAM members. We've got a lot going on and we're sure you do too\, so let's talk about it. Did we mention there's a chance to win tickets to the Heritage Classic on October 22 & 23 and Jets tickets? See you there.
X-ALT-DESC;FMTTYPE=text/html:<strong>Mix It Up!</strong><br />\n<br />\nWho wants to slip out of the office a little early on a Wednesday for a beer and some tech talk? Umm\, we do.<br />\n<br />\nOn October 5\, we&#39\;re heading over to The Pint to sip some beer\, snack on some wings and mingle with ICTAM members. We&#39\;ve got a lot going on and we&#39\;re sure you do too\, so let&#39\;s talk about it. Did we mention there&#39\;s a chance to win tickets to the Heritage Classic on October 22 &amp\; 23 and Jets tickets? See you there.
LOCATION:The Pint\, 274 Garry St\, Winnipeg 2nd Floor
UID:e.9429.2
SEQUENCE:3
DTSTAMP:20260421T160643Z
URL:https://members.techmanitoba.ca/events/details/ictam-open-house-at-the-pint-2
END:VEVENT

END:VCALENDAR
