BEGIN:VCALENDAR
VERSION:2.0
PRODID:-//ChamberMaster//Event Calendar 2.0//EN
METHOD:PUBLISH
X-PUBLISHED-TTL:P3D
REFRESH-INTERVAL:P3D
CALSCALE:GREGORIAN
BEGIN:VEVENT
DTSTART:20171115T140000Z
DTEND:20171115T150000Z
X-MICROSOFT-CDO-ALLDAYEVENT:FALSE
SUMMARY:Executive Breakfast: Trademark Laws - November 15\, 2017
DESCRIPTION:* If you don't have an ICTAM login or have trouble logging in\, email info@ictam.ca for immediate assistance.\n\n\n\nImpending Changes to Trademark Law:  Why You Should Consider Registering Yours Sooner Rather Than Later\n\n\n\nLearn about the potential changes to Canada's trademark laws which\, if implemented\, will impact thousands of Canadian businesses\, crown corporations\, not-for-profits and other organizations which use trade names\, brand names\, products or services\, but are not trademarked. 'Trademark trolls' are waiting to steal your IP.\n\n\n\nPresented by Silvia de Sousa\, Thompson Dorfman Sweatman LLP
X-ALT-DESC;FMTTYPE=text/html:<span style="font-size:14px\;"><em>* If you don&#39\;t have an ICTAM login or have trouble logging in\, email info@ictam.ca for immediate assistance.</em></span><br />\n<br />\n<strong>Impending Changes to Trademark Law:&nbsp\; Why You Should Consider Registering Yours Sooner Rather Than Later</strong><br />\n<br />\nLearn about the potential changes to Canada&rsquo\;s trademark laws which\, if implemented\, will impact thousands of Canadian businesses\, crown corporations\, not-for-profits and other organizations which use trade names\, brand names\, products or services\, but are not trademarked. &lsquo\;Trademark trolls&rsquo\; are waiting to steal your IP.<br />\n<br />\nPresented by Silvia de Sousa\, Thompson Dorfman Sweatman LLP
LOCATION:435 Ellice Ave (NRC Building)
UID:e.9429.1035
SEQUENCE:3
DTSTAMP:20260420T172549Z
URL:https://members.techmanitoba.ca/events/details/executive-breakfast-trademark-laws-november-15-2017-1035
END:VEVENT

END:VCALENDAR
