BEGIN:VCALENDAR
VERSION:2.0
PRODID:-//ChamberMaster//Event Calendar 2.0//EN
METHOD:PUBLISH
X-PUBLISHED-TTL:P3D
REFRESH-INTERVAL:P3D
CALSCALE:GREGORIAN
BEGIN:VEVENT
DTSTART:20161124T140000Z
DTEND:20161125T220000Z
X-MICROSOFT-CDO-ALLDAYEVENT:FALSE
SUMMARY:DisruptED
DESCRIPTION:At DisruptEd\, educators\, industry leaders\, government and students will join forces and explore the ways technology can enhance the future of education. Join us in November for two awesome days of thought provoking speakers and game-changing ideas. Let's make tomorrow even better than today.\n\n\n\nBuy your tickets at www.educationdisrupted.ca
X-ALT-DESC;FMTTYPE=text/html:At DisruptEd\, educators\, industry leaders\, government and students will join forces and explore the ways technology can enhance the future of education. Join us in November for two awesome days of thought provoking speakers and game-changing ideas. Let&rsquo\;s make tomorrow even better than today.<br />\n<br />\n<strong>Buy your tickets at <a href="http://www.educationdisrupted.ca" target="_blank">www.educationdisrupted.ca</a></strong>
LOCATION:RBC Convention Centre
UID:e.9429.21
SEQUENCE:3
DTSTAMP:20260421T154106Z
URL:https://members.techmanitoba.ca/events/details/disrupted-21
END:VEVENT

END:VCALENDAR
