BEGIN:VCALENDAR
VERSION:2.0
PRODID:-//ChamberMaster//Event Calendar 2.0//EN
METHOD:PUBLISH
X-PUBLISHED-TTL:P3D
REFRESH-INTERVAL:P3D
CALSCALE:GREGORIAN
BEGIN:VEVENT
DTSTART:20190131T140000Z
DTEND:20190201T210000Z
X-MICROSOFT-CDO-ALLDAYEVENT:FALSE
SUMMARY:DisruptED 2019
DESCRIPTION:At DisruptED The Future of Work\, industry\, education and technology are brought together in a conference\, unlike any other. As we race towards an unknown future and the world becomes increasingly tech driven\, what changes are in store for industry\, educators and students? What skills will be valued? How will we work together to adapt?\n\n\n\nThis ground breaking two-day conference will spark meaningful conversations about how to create a stronger\, more successful future for youth\, employees and employers\, one that embraces technology as a tool for improvement.\n\n\n #DISRUPTEDFUTURE\n\nWhen: January 31st and February 1st\, 2019.  \n\nRegistration and doors open at 8am\, and we should be wrapping up each day by 3:00pm. When you arrive\, please go to the registration desk corresponding to the first letter in your last name\, and have your ticket ready to present. Note for speakers: you have a separate registration table and should not line up by name.  \n\n\n\nEntry: You must bring this EMAIL CONFIRMATION (printed or mobile) for event access.\n\n\n\nPlease present this at registration to retrieve your nametag which will be your key to the event. \n\nIf you don't have the email\, please re-check your inbox  including your spam folder!\n\n\n\n*Your email confirmation will help speed things up and avoid errors*\n\n*Bring your ID  so we can find you on our list\n\nThere will also be a help desk for additional registration support*\n\n*Speakers and special guests\, will proceed to the VIP table.*\n\n*Registration badges are sorted by last name*\n\n\n\nParking: There are two lots at the Convention Centre\, both accessible off Carlton. This nearby parking costs approximately $20 for the day\, but there are other lots downtown that are close too.  We've got a map for additional downtown parking to help you out. Please note that parking at a meter on the street is $4/hour and has time limits that will impede your ability to enjoy the day when you have to move your vehicle and re-feed the meter. \n\n\n\nTransit: We're also on or close to almost all of the major bus routes that hit downtown Winnipeg. You can use Winnipeg Transit's route planner to confirm your routes and times. \n\n\n\nDress: Most people tend toward business casual. You should wear whatever makes you comfortable and best represents who you are\, whether that be jeans\, a suit or a dress. A sweater is recommended as the room may be cool from time to time. Food:  Breakfast and lunch will be provided as well as coffee\, tea and water throughout the day. If you have any dietary restrictions\, please bring some snacks. We will do our best to ensure we've covered options for common allergies/restrictions but it's better to be safe than sorry!\n\nWhat to Bring:\n\n\n\n        1. An open mind: Talk to the person next to you\, in front of you\, or behind you. Play that game. Ask a  \n\n            speaker a question. and participate in the Q&A segments. Explore the Interactive Playground!\n\nFor the first time\, we are using a tech tool to facilitate our Q&A \n\n\n	Go to www.sli.do.com\n	 Enter the event code: DisruptED\n	Type your question - it's that easy!        \n\n        2.  A pen. We have note-taking space in the program\, or you can bring your favorite notebook.\n\n\n\n        3. Your mobile device of choice. Free WiFi is available\, and we encourage you to spread what you see and hear online\, in real-time.\n\n\n\n*There are no lockers on site\, coat racks will be in the foyer.  Please store your belongings carefully and at your own risk.  There will be volunteers monitoring this area*\n\n\n	Powering up: Charging stations will be available.\n\n\n\n	Day-Of Help: If you have questions please visit the registration table to speak with one of our staff members. Volunteers will also have nametags indicating that they are a volunteer who can help point you in the right direction or answer questions.
X-ALT-DESC;FMTTYPE=text/html:<div><span style="font-family:arial\;">At DisruptED The Future of Work\, industry\, education and technology are brought together in a conference\, unlike any other. As we race towards an unknown future and the world becomes increasingly tech driven\, what changes are in store for industry\, educators and students? What skills will be valued? How will we work together to adapt?</span></div>\n\n<div><br>\n<span style="font-family:arial\;">This ground breaking two-day conference will spark meaningful conversations about how to create a stronger\, more successful future for youth\, employees and employers\, one that embraces technology as a tool for improvement.</span></div>\n<br>\n<span style="font-family:arial\;"><strong>&nbsp\;#DISRUPTEDFUTURE</strong></span><br>\n<span style="font-family:arial\;"><span style="background:white\;"><span style="font-variant-ligatures:normal\;font-variant-caps:normal\;orphans:2\;text-align:start\;widows:2\;-webkit-text-stroke-width:0px\;text-decoration-style:initial\;text-decoration-color:initial\;float:none\;word-spacing:0px\;"><strong>When</strong>: January 31<sup>st</sup> and February 1<sup>st</sup>\, 2019. </span></span></span>&#8203\;<br>\n<span style="font-family:arial\;"><span style="background:white\;"><span style="font-variant-ligatures:normal\;font-variant-caps:normal\;orphans:2\;text-align:start\;widows:2\;-webkit-text-stroke-width:0px\;text-decoration-style:initial\;text-decoration-color:initial\;float:none\;word-spacing:0px\;">Registration and doors open at&nbsp\;</span><strong style="box-sizing:border-box\;outline:0px\;text-size-adjust:100%\;font-variant-ligatures:normal\;font-variant-caps:normal\;orphans:2\;text-align:start\;widows:2\;-webkit-text-stroke-width:0px\;text-decoration-style:initial\;text-decoration-color:initial\;background-position-x:0px\;background-position-y:0px\;word-spacing:0px\;"><span style="border:none windowtext 1.0pt\;padding:0in\;">8am</span></strong><span style="font-variant-ligatures:normal\;font-variant-caps:normal\;orphans:2\;text-align:start\;widows:2\;-webkit-text-stroke-width:0px\;text-decoration-style:initial\;text-decoration-color:initial\;float:none\;word-spacing:0px\;">\, and we should be wrapping up each day by 3:00pm. When you arrive\, please go to the registration desk corresponding to the first letter in your last name\, and have your ticket ready to present. Note for speakers: you have a separate registration table and should not line up by name.&nbsp\;</span>&nbsp\;</span></span><br>\n<br>\n<span style="font-family:arial\;"><span style="background:white\;"><span style="font-variant-ligatures:normal\;font-variant-caps:normal\;orphans:2\;widows:2\;-webkit-text-stroke-width:0px\;text-decoration-style:initial\;text-decoration-color:initial\;float:none\;word-spacing:0px\;"><strong>Entry</strong>: You must bring this <strong>EMAIL CONFIRMATION </strong>(printed or mobile) for event access.<br>\n<br>\nPlease present this at registration to retrieve your nametag which will be your key to the event.&nbsp\;<br>\nIf you don't have the email\, please re-check your inbox&nbsp\; including your spam folder!<br>\n<br>\n<span style="display: inline !important\; float: none\; background-color: transparent\; color: rgb(51\, 51\, 51)\; font-family: arial\; font-size: 13px\; font-style: normal\; font-variant: normal\; font-weight: 400\; letter-spacing: normal\; orphans: 2\; text-align: left\; text-decoration: none\; text-indent: 0px\; text-transform: none\; -webkit-text-stroke-width: 0px\; white-space: normal\; widows: 2\; word-spacing: 0px\;">*Your <strong>email confirmation</strong> will help speed things up and avoid errors*</span></span></span></span><br>\n<span style="font-family:arial\;"><span style="background:white\;"><span style="font-variant-ligatures:normal\;font-variant-caps:normal\;orphans:2\;widows:2\;-webkit-text-stroke-width:0px\;text-decoration-style:initial\;text-decoration-color:initial\;float:none\;word-spacing:0px\;">*Bring your ID&nbsp\; so we can find you on our list<br>\nThere will also be a help desk for additional registration support*<br>\n*Speakers and special guests\, will proceed to the VIP table.*</span></span></span><br>\n*Registration badges are sorted by last name*<br>\n<br>\n<span style="font-family:arial\;"><span style="background:white\;"><span style="font-variant-ligatures:normal\;font-variant-caps:normal\;orphans:2\;widows:2\;-webkit-text-stroke-width:0px\;text-decoration-style:initial\;text-decoration-color:initial\;float:none\;word-spacing:0px\;"><strong>Parking</strong>: There are two lots at the Convention Centre\, both accessible off Carlton.&nbsp\;This nearby parking costs approximately $20 for the day\, but there are&nbsp\;other lots downtown that are close too.&nbsp\; We've got a&nbsp\;</span></span><a href="http://downtownwinnipegbiz.com/wp-content/uploads/2013/06/4502-DBIZ_Zoomed_Maps_31.pdf" style="box-sizing:border-box\;outline:0px\;text-size-adjust:100%\;font-variant-ligatures:normal\;font-variant-caps:normal\;orphans:2\;widows:2\;-webkit-text-stroke-width:0px\;background-position-x:0px\;background-position-y:0px\;word-spacing:0px\;"><span style="border:none windowtext 1.0pt\;padding:0in\;background:white\;">map for additional downtown parking</span></a><span style="background:white\;"><span style="font-variant-ligatures:normal\;font-variant-caps:normal\;orphans:2\;widows:2\;-webkit-text-stroke-width:0px\;text-decoration-style:initial\;text-decoration-color:initial\;float:none\;word-spacing:0px\;">&nbsp\;to help you out.&nbsp\;</span></span></span><span style="font-family:arial\;"><span style="background:white\;"><span style="font-variant-ligatures:normal\;font-variant-caps:normal\;orphans:2\;widows:2\;-webkit-text-stroke-width:0px\;text-decoration-style:initial\;text-decoration-color:initial\;float:none\;word-spacing:0px\;">Please note that parking at a meter on the street is $4/hour and has time limits that will impede your ability to enjoy the day when you have to move your vehicle and re-feed the meter.<span style="font-family:arial\;"><span style="background:white\;"><span style="font-variant-ligatures:normal\;font-variant-caps:normal\;orphans:2\;widows:2\;-webkit-text-stroke-width:0px\;text-decoration-style:initial\;text-decoration-color:initial\;float:none\;word-spacing:0px\;"><span style="font-family:arial\;"><span style="background:white\;"><span style="font-variant-ligatures:normal\;font-variant-caps:normal\;orphans:2\;widows:2\;-webkit-text-stroke-width:0px\;text-decoration-style:initial\;text-decoration-color:initial\;float:none\;word-spacing:0px\;">&#8203\;</span></span></span></span></span></span></span></span></span><br>\n<br>\n<span style="font-family:arial\;"><strong><span style="border:none windowtext 1.0pt\;padding:0in\;">Transit</span></strong>: We're also on or close to almost all of the major bus routes that hit downtown Winnipeg. You can use&nbsp\;<a href="http://winnipegtransit.com/en/navigo" style="box-sizing:border-box\;outline:0px\;text-size-adjust:100%\;background-position-x:0px\;background-position-y:0px\;"><span style="border:none windowtext 1.0pt\;padding:0in\;">Winnipeg Transit's route planner</span></a>&nbsp\;to confirm your routes and times.</span>&#8203\;<br>\n<br>\n<span style="font-family:arial\;"><strong><span style="border:none windowtext 1.0pt\;padding:0in\;">Dress</span></strong>: Most people tend toward business casual. You should wear whatever makes you comfortable and best represents who you are\, whether that be jeans\, a suit or a dress. A sweater is recommended as the room may be cool from time to time. </span><span style="font-family:arial\;"><strong><span style="border:none windowtext 1.0pt\;padding:0in\;">Food</span></strong>: &nbsp\;Breakfast and lunch will be provided as well as coffee\, tea and water throughout the day. If you have any dietary restrictions\, please bring some snacks. We will do our best to ensure we've covered options for common allergies/restrictions but it's better to be safe than sorry!</span>\n\n<p><span style="font-family:arial\;"><span style="font-family:arial\;"><strong><span style="border:none windowtext 1.0pt\;padding:0in\;">What to Bring</span></strong>:</span></span><br>\n<br>\n<span style="font-family:arial\;">&nbsp\;&nbsp\;&nbsp\;&nbsp\;&nbsp\;&nbsp\;&nbsp\;&nbsp\;1.&nbsp\;An open mind: Talk to the person next to you\, in front of you\, or behind you. Play that game. Ask a &nbsp\;<br>\n&nbsp\; &nbsp\; &nbsp\; &nbsp\; &nbsp\; &nbsp\; speaker a question. and participate in the Q&amp\;A segments. Explore the Interactive Playground!</span></p>\n\n<p><font face="arial">For the first time\, we are using a tech tool to facilitate our Q&amp\;A&nbsp\;</font></p>\n\n<ul>\n	<li><font face="arial">Go to www.sli.do.com</font></li>\n	<li><font face="arial">&nbsp\;Enter the event code: DisruptED</font></li>\n	<li><font face="arial">Type your question - it's that easy!</font><font face="arial"><font face="arial">&nbsp\;&nbsp\;&nbsp\;&nbsp\;&nbsp\;&nbsp\;&nbsp\;&nbsp\;</font></font></li>\n</ul>\n&nbsp\;&nbsp\;&nbsp\;&nbsp\;&nbsp\;&nbsp\;&nbsp\;&nbsp\;<font face="arial"><font face="arial">2.&nbsp\; A pen. We have note-taking space in the program\, or you can bring your favorite notebook.</font></font><br>\n<br>\n&nbsp\;&nbsp\;&nbsp\;&nbsp\;&nbsp\;&nbsp\;&nbsp\;&nbsp\;<font face="arial">3. Your mobile device of choice. Free WiFi is available\, and we encourage you to spread what you </font><span style="font-family:arial\;">see and hear online\, in real-time.</span><br>\n<br>\n<span style="font-family:arial\;">*There are no lockers on site\, coat racks will be in the foyer.&nbsp\; Please&nbsp\;store your belongings carefully and at your own risk.&nbsp\; There will be volunteers monitoring this area*</span>\n\n<ul>\n	<li><span style="font-family:arial\;"><strong><span style="border:none windowtext 1.0pt\;padding:0in\;">Powering up</span></strong>: Charging stations will be available.</span></li>\n</ul>\n\n<ul>\n	<li><span style="font-family:arial\;"><strong><span style="border:none windowtext 1.0pt\;padding:0in\;background:white\;">Day-Of Help</span></strong><span style="background:white\;"><span style="font-variant-ligatures:normal\;font-variant-caps:normal\;orphans:2\;widows:2\;-webkit-text-stroke-width:0px\;text-decoration-style:initial\;text-decoration-color:initial\;float:none\;word-spacing:0px\;">: If you have questions please visit the registration table to speak with one of our staff members. Volunteers will also have nametags indicating that they are a volunteer who can help point you in the right direction or answer questions.</span></span></span></li>\n</ul>\n
LOCATION:RBC Convention Centre York Ballroom
UID:e.9429.1056
SEQUENCE:3
DTSTAMP:20260419T170719Z
URL:https://members.techmanitoba.ca/events/details/disrupted-2019-1056
END:VEVENT

END:VCALENDAR
