BEGIN:VCALENDAR
VERSION:2.0
PRODID:-//ChamberMaster//Event Calendar 2.0//EN
METHOD:PUBLISH
X-PUBLISHED-TTL:P3D
REFRESH-INTERVAL:P3D
CALSCALE:GREGORIAN
BEGIN:VEVENT
DTSTART:20190130T153000Z
DTEND:20190130T180000Z
X-MICROSOFT-CDO-ALLDAYEVENT:FALSE
SUMMARY:Digital Industries Economic Strategy Table Presentation
DESCRIPTION:Digital Industries Economic Strategy Table Presentation\n\n\n\nIn the Fall of 2017\, the Honourable Navdeep Bains\, Minister of Innovation\, Science and Economic Development of the Government of Canada\, launched six industry-led Economic Strategy Tables to foster economic growth in six key sectors: advanced manufacturing\, agri-food\, clean technology\, digital industries\, health/bio-sciences and resources of the future. These Tables are part of the Federal Government's Innovation and Skills Plan announced in Budget 2017.\n\n \n\nOn September 24\, 2018\, the report outlining the results of this industry-led initiative\, including sectoral plans to foster economic growth and the six signature initiatives supported by all Tables\, was released. You can access the report at https://www.ic.gc.ca/eic/site/098.nsf/eng/h_00020.html\n\n                                           \n\nICTAM invites you to join the Digital Industries Economic Strategy Table member Christian Dandeneau CEO of ID Fusion Software who will present an overview of key recommendations of the Economic Strategy Tables followed by an interactive Q&A discussion of the findings of the report.\n\n \n\nWhen? Wednesday\, January 30\, 2019 from 9:30 a.m. to 12:00 p.m.\n\n \n\nWhere?  4th floor Conference Room\, True North Square\, 242 Hargrave Street Winnipeg\, MB R3C 0T8. Underground parking is available with access off of Carlton Street with rates of $4.00 per hour or $17.00 per day.\n\n*** RSVP before January 25\, 2019 \n\n \n\n \n\nBonjour\,\n\n \n\n  l'automne 2017\, le ministre de l'Innovation\, des Sciences et du D veloppement  conomique du gouvernement du Canada\, l'honorable Navdeep Bains\, lan ait six Tables sectorielles de strat gies  conomiques men es par l'industrie pour favoriser la croissance  conomique dans six secteurs cl s\, soit la fabrication de pointe\, le secteur agroalimentaire\, les technologies propres\, les industries num riques\, le secteur des sciences biologiques et de la sant  ainsi que les ressources de l'avenir. Les tables de strat gies  conomiques sont issues du Plan pour l'innovation et les comp tences du Gouvernement du Canada annonc  dans le budget de 2017.\n\n \n\nLe 24 septembre 2018\, le rapport pr sentant les r sultats du travail dirig  par l'industrie\, incluant des plans sectoriels pour favoriser la croissance  conomique et les six initiatives phares appuy es par toutes les Tables\, a  t  rendu public. Vous pouvez acc der au rapport via l'hyperlien suivant :  https://www.ic.gc.ca/eic/site/098.nsf/fra/h_00020.html\n\n \n\nICTAM vous invitent   vous joindre   une pr sentation par Christian Dandeneau PDG de ID Fusion Software et membre de la Table de strat gie  conomique des industries num riques. La pr sentation sera suivie d'une discussion interactive du style Questions et R ponses sur les conclusions du rapport.\n\n \n\nQuand? mercredi\, 30 janvier de 10h00   12h00.  \n\n \n\nO ? 4e  tage\, salle de conf rence\, True North Square\, 242\, rue Hargrave Winnipeg\, MB R3C 0 t 8. Un parking souterrain est disponible avec acc s hors rue Carlton\, avec des taux de 4\,00 $ par heure ou $17\,00 par jour.\n\n***RSVP avant le 25 janvier 2019  \n\n \n\nAu plaisir de vous y voir !
X-ALT-DESC;FMTTYPE=text/html:<strong>Digital Industries Economic Strategy Table Presentation</strong><br />\n<br />\nIn the Fall of 2017\, the Honourable Navdeep Bains\, Minister of Innovation\, Science and Economic Development of the Government of Canada\, launched six industry-led <strong>Economic Strategy Tables</strong> to foster economic growth in six key sectors: advanced manufacturing\, agri-food\, clean technology\, digital industries\, health/bio-sciences and resources of the future. These Tables are part of the Federal Government&rsquo\;s Innovation and Skills Plan announced in Budget 2017.<br />\n&nbsp\;<br />\nOn September 24\, 2018\, the report outlining the results of this industry-led initiative\, including sectoral plans to foster economic growth and the six signature initiatives supported by all Tables\, was released. You can access the report at <a href="https://www.ic.gc.ca/eic/site/098.nsf/eng/h_00020.html" target="_blank">https://www.ic.gc.ca/eic/site/098.nsf/eng/h_00020.html</a><br />\n&nbsp\;&nbsp\;&nbsp\;&nbsp\;&nbsp\;&nbsp\;&nbsp\;&nbsp\;&nbsp\;&nbsp\;&nbsp\;&nbsp\;&nbsp\;&nbsp\;&nbsp\;&nbsp\;&nbsp\;&nbsp\;&nbsp\;&nbsp\;&nbsp\;&nbsp\;&nbsp\;&nbsp\;&nbsp\;&nbsp\;&nbsp\;&nbsp\;&nbsp\;&nbsp\;&nbsp\;&nbsp\;&nbsp\;&nbsp\;&nbsp\;&nbsp\;&nbsp\;&nbsp\;&nbsp\;&nbsp\;&nbsp\;&nbsp\;&nbsp\;<br />\n<span style="color:black\;">ICTAM</span> invites you to join<span style="color:black\;"> the Digital Industries Economic Strategy </span>Table member <strong>Christian Dandeneau</strong> CEO of ID Fusion Software who will present an overview of key recommendations of the Economic Strategy Tables followed by an interactive Q&amp\;A discussion of the findings of the report.<br />\n&nbsp\;<br />\n<strong>When?</strong> <span style="color:black\;">Wednesday</span>\, January 30\, 2019 from 9:30 a.m. to 1<span style="color:black\;">2</span>:<span style="color:black\;">0</span>0 p.m.<br />\n&nbsp\;<br />\n<strong>Where? </strong><span style="color:black\;">&nbsp\;4<sup>th</sup> floor Conference Room\, True North Square\, 242 Hargrave Street Winnipeg\, MB R3C 0T8. Underground parking is available with access off of Carlton Street with rates of $4.00 per hour or $17.00 per day.</span><br />\n<strong>*** RSVP before January 25\, 2019 </strong><br />\n&nbsp\;<br />\n&nbsp\;<br />\nBonjour\,<br />\n&nbsp\;<br />\n&Agrave\; l&#39\;automne 2017\, le ministre de l&#39\;Innovation\, des Sciences et du D&eacute\;veloppement &eacute\;conomique du gouvernement du Canada\, l&#39\;honorable Navdeep Bains\, lan&ccedil\;ait <strong>six Tables sectorielles de strat&eacute\;gies &eacute\;conomiques</strong> men&eacute\;es par l&rsquo\;industrie pour favoriser la croissance &eacute\;conomique dans six secteurs cl&eacute\;s\, soit la fabrication de pointe\, le secteur agroalimentaire\, les technologies propres\, les industries num&eacute\;riques\, le secteur des sciences biologiques et de la sant&eacute\; ainsi que les ressources de l&rsquo\;avenir. Les tables de strat&eacute\;gies &eacute\;conomiques sont issues du <em>Plan pour l&rsquo\;innovation et les comp&eacute\;tences</em> du Gouvernement du Canada annonc&eacute\; dans le budget de 2017.<br />\n&nbsp\;<br />\nLe 24 septembre 2018\, le rapport pr&eacute\;sentant les r&eacute\;sultats du travail dirig&eacute\; par l&rsquo\;industrie\, incluant des plans sectoriels pour favoriser la croissance &eacute\;conomique et les six initiatives phares appuy&eacute\;es par toutes les Tables\, a &eacute\;t&eacute\; rendu public. Vous pouvez acc&eacute\;der au rapport via l&rsquo\;hyperlien suivant&nbsp\;: &nbsp\;<a href="https://www.ic.gc.ca/eic/site/098.nsf/fra/h_00020.html" target="_blank">https://www.ic.gc.ca/eic/site/098.nsf/fra/h_00020.html</a><br />\n&nbsp\;<br />\nICTAM vous invitent &agrave\; vous joindre &agrave\; une pr&eacute\;sentation par <strong>Christian Dandeneau </strong>PDG de ID Fusion Software et membre de la Table de strat&eacute\;gie &eacute\;conomique des industries num&eacute\;riques. La pr&eacute\;sentation sera suivie d&rsquo\;une discussion interactive du style Questions et R&eacute\;ponses sur les conclusions du rapport.<br />\n&nbsp\;<br />\n<strong>Quand? </strong>mercredi\, 30 janvier de 10h00 &agrave\; 12h00. &nbsp\;<br />\n&nbsp\;<br />\n<strong>O&ugrave\;?&nbsp\;</strong>4e &eacute\;tage\, salle de conf&eacute\;rence\, True North Square\, 242\, rue Hargrave Winnipeg\, MB R3C 0 t 8. Un parking souterrain est disponible avec acc&egrave\;s hors rue Carlton\, avec des taux de 4\,00 $ par heure ou $17\,00 par jour.<br />\n<strong>***RSVP avant le 25 janvier 2019 </strong>&nbsp\;<br />\n&nbsp\;<br />\nAu plaisir de vous y voir ! &nbsp\;
LOCATION:Where? 17th floor Board Room\, True North Square\, 242 Hargrave Street Winnipeg\, MB R3C 0T8. Underground parking is available with access off of Carlton Street with rates of $4.00 per hour or $17.00 per day. *** RSVP before January 25\, 2019
UID:e.9429.1079
SEQUENCE:3
DTSTAMP:20260419T170733Z
URL:https://members.techmanitoba.ca/events/details/digital-industries-economic-strategy-table-presentation-1079
END:VEVENT

END:VCALENDAR
