BEGIN:VCALENDAR
VERSION:2.0
PRODID:-//ChamberMaster//Event Calendar 2.0//EN
METHOD:PUBLISH
X-PUBLISHED-TTL:P3D
REFRESH-INTERVAL:P3D
CALSCALE:GREGORIAN
BEGIN:VEVENT
DTSTART;VALUE=DATE:20181025
DTEND;VALUE=DATE:20181026
TRANSP:TRANSPARENT
X-MICROSOFT-CDO-ALLDAYEVENT:TRUE
SUMMARY:Consultation Workshop 2 - Employers\, Government and Education Stakeholders
DESCRIPTION:Calling all employers\, government and education stakeholders who hire STEM\, ICT/digital and skilled trades workers.  We need your voice.\n\n\n\nShare your organization's experience in enacting strategies\, human resource policies\, procedures and actions that address increasing the number of women in the tech sector. We want to hear what worked\, what didn't work and where gaps still persist.\n\n\n\nLet's come together to collaborate and implement change across Canada.\n\n\n\nThere will be an opportunity to take part in a video testimonial after your workshop is completed.  Please come camera ready!\n\n \n\n* This is a free event\, so if you don't have an ICTAM login\, just register above under the non-member form\n\n\n\nPresented by Maven and ICTC\n\n\n\nWIT Connect Initiative\n\nICTC?s objective\, via the WIT Connect Initiative and with assistance from ICTAM?s Maven team\, is to better assess/understand critical business requirements\, workplace policies and practices\, growth challenges (including hiring\, retention\, attrition)\, education enrollment/grad rates and provincial gender-based policies that will support the initiative's research and development of the gender-based data model\, evaluation framework and national action plan.
X-ALT-DESC;FMTTYPE=text/html:Calling all employers\, government and education stakeholders who hire STEM\, ICT/digital and skilled trades workers.&nbsp\; We need your voice.<br />\n<br />\nShare your organization&#39\;s experience in enacting strategies\, human resource policies\, procedures and actions that address increasing the number of women in the tech sector. We want to hear what worked\, what didn&#39\;t work and where gaps still persist.<br />\n<br />\nLet&#39\;s come together to collaborate and implement change across Canada.<br />\n<br />\n<strong>There will be an opportunity to take part in a video testimonial after your workshop is completed.&nbsp\; Please come camera ready!</strong><br />\n&nbsp\;<br />\n<span style="font-size: 14px\;"><em>* This is a free event\, so if you don&#39\;t have an ICTAM login\, just register above under the non-member form</em></span><br />\n<br />\n<strong><span style="font-size: 14pt\;">Presented by Maven and ICTC</span><br />\n<br />\n<span style="color: rgb(31\, 73\, 125)\;">WIT Connect Initiative</span></strong><br />\n<span style="color: rgb(31\, 73\, 125)\;">ICTC?s objective\, via the WIT Connect Initiative and with assistance from ICTAM?s Maven team\, is to&nbsp\;</span><span style="color: rgb(31\, 73\, 125)\;">better assess/understand critical business requirements\, workplace policies and practices\, growth challenges (including hiring\, retention\, attrition)\, education enrollment/grad rates and provincial gender-based policies that will support the initiative&#39\;s&nbsp\;</span><span style="color: rgb(31\, 73\, 125)\;">research and development of the gender-based data model\, evaluation framework and national action plan.</span>
LOCATION:435 Ellice Ave\, NRC Building
UID:e.9429.1067
SEQUENCE:3
DTSTAMP:20260419T223821Z
URL:https://members.techmanitoba.ca/events/details/consultation-workshop-2-employers-government-and-education-stakeholders-1067
END:VEVENT

END:VCALENDAR
