BEGIN:VCALENDAR
VERSION:2.0
PRODID:-//ChamberMaster//Event Calendar 2.0//EN
METHOD:PUBLISH
X-PUBLISHED-TTL:P3D
REFRESH-INTERVAL:P3D
CALSCALE:GREGORIAN
BEGIN:VEVENT
DTSTART;VALUE=DATE:20181024
DTEND;VALUE=DATE:20181025
TRANSP:TRANSPARENT
X-MICROSOFT-CDO-ALLDAYEVENT:TRUE
SUMMARY:Consultation Workshop 1 - Women in Tech
DESCRIPTION:Calling all women with STEM or ICT/digital backgrounds including those who have exited or are entering these fields. We need your voice.\n\n\n\nYou can change gender parity in the tech sector. Tell us your experience on: skills\, needs\, workforce opportunities\, challenges\, education and barriers to entry or advancement.\n\n\n\nLet's come together to collaborate and implement change across Canada.\n\n\n\nThere will be an opportunity to take part in a video testimonial after your workshop is completed.  Please come camera ready!\n\n \n\n* This is a free event\, so if you don't have an ICTAM login\, just register above under the non-member form\n\n\n\nPresented by Maven and ICTC\n\n\n\nWIT Connect Initiative\n\nICTC's objective\, via the WIT Connect Initiative and with assistance from ICTAM's Maven team\, is to better assess/understand critical business requirements\, workplace policies and practices\, growth challenges (including hiring\, retention\, attrition)\, education enrollment/grad rates and provincial gender-based policies that will support the initiative's research and development of the gender-based data model\, evaluation framework and national action plan.
X-ALT-DESC;FMTTYPE=text/html:Calling all women with STEM or ICT/digital backgrounds including those who have exited or are entering these fields. We need your voice.<br />\n<br />\nYou can change gender parity in the tech sector. Tell us your experience on: skills\, needs\, workforce opportunities\, challenges\, education and barriers to entry or advancement.<br />\n<br />\nLet&rsquo\;s come together to collaborate and implement change across Canada.<br />\n<br />\n<strong>There will be an opportunity to take part in a video testimonial after your workshop is completed.&nbsp\; Please come camera ready!</strong><br />\n&nbsp\;<br />\n<span style="font-size: 14px\;"><em>* This is a free event\, so if you don&#39\;t have an ICTAM login\, just register above under the non-member form</em></span><br />\n<br />\n<strong><span style="font-size: 14pt\;">Presented by Maven and ICTC</span><br />\n<br />\n<span style="color:#1F497D\;">WIT Connect Initiative</span></strong><br />\n<span style="color:#1F497D\;">ICTC&rsquo\;s objective\, via the WIT Connect Initiative and with assistance from ICTAM&rsquo\;s Maven team\, is to </span><span style="color:#1F497D\;">better assess/understand critical business requirements\, workplace policies and practices\, growth challenges (including hiring\, retention\, attrition)\, education enrollment/grad rates and provincial gender-based policies that will support the initiative&rsquo\;s </span><span style="color:#1F497D\;">research and development of the gender-based data model\, evaluation framework and national action plan.</span>
LOCATION:435 Ellice Ave\, NRC Building
UID:e.9429.1066
SEQUENCE:3
DTSTAMP:20260420T000341Z
URL:https://members.techmanitoba.ca/events/details/consultation-workshop-1-women-in-tech-1066
END:VEVENT

END:VCALENDAR
