BEGIN:VCALENDAR
VERSION:2.0
PRODID:-//ChamberMaster//Event Calendar 2.0//EN
METHOD:PUBLISH
X-PUBLISHED-TTL:P3D
REFRESH-INTERVAL:P3D
CALSCALE:GREGORIAN
BEGIN:VEVENT
DTSTART:20180426T223000Z
DTEND:20180427T030000Z
X-MICROSOFT-CDO-ALLDAYEVENT:FALSE
SUMMARY:Bell MTS Presents: The Innovators 2018
DESCRIPTION:*If you forgot your ICTAM password\, login using the E-mail field. Otherwise\, email info@ictam.ca for immediate assistance.\n\n\n\nICTAM's signature event\, The Innovators\, returns for its 7th incredible year! Join us April 26\, 2018 as we showcase leaders who are inventing the future. \n\n\n\nWe're delighted to have as our featured guest Lawrence Levy\, former Pixar CFO + EVP\, Author + Business Strategist.  Join Lawrence and host Kevin Newman\, Host + Managing Editor of W5 for a robust conversation on innovation and how technology is shaping businesses now and in the future.\n\n\n\nBecause of the need to accommodate guests' food requirements\, no refunds are accepted after April 19.
X-ALT-DESC;FMTTYPE=text/html:<span style="font-size:14px\;"><em><span style="color:#FF0000\;"><strong>*If you forgot your ICTAM password\, login using the E-mail field. Otherwise\, email info@ictam.ca for immediate assistance.</strong></span></em></span><br />\n<br />\nICTAM&rsquo\;s signature event\, The Innovators\, returns for its 7th incredible year! Join us April 26\, 2018 as we showcase leaders who are inventing the future.&nbsp\;<br />\n<br />\nWe&rsquo\;re delighted to have as our featured guest <strong>Lawrence Levy</strong>\, former Pixar CFO + EVP\, Author + Business Strategist.&nbsp\; Join Lawrence and <strong>host Kevin Newman</strong>\,&nbsp\;Host + Managing Editor of W5 for a robust conversation on innovation and how technology is shaping businesses now and in the future.<br />\n<br />\n<em>Because of the need to accommodate guests&#39\; food requirements\,&nbsp\;no refunds are accepted after April 19.&nbsp\;</em>
LOCATION:RBC Convention Centre\, 2nd floor\, North Building (by the escalators) 375 York Avenue\, Winnipeg\, MB
UID:e.9429.1041
SEQUENCE:3
DTSTAMP:20260420T085701Z
URL:https://members.techmanitoba.ca/events/details/bell-mts-presents-the-innovators-2018-1041
END:VEVENT

END:VCALENDAR
