BEGIN:VCALENDAR
VERSION:2.0
PRODID:-//ChamberMaster//Event Calendar 2.0//EN
METHOD:PUBLISH
X-PUBLISHED-TTL:P3D
REFRESH-INTERVAL:P3D
CALSCALE:GREGORIAN
BEGIN:VEVENT
DTSTART:20260408T173000Z
DTEND:20260409T220000Z
X-MICROSOFT-CDO-ALLDAYEVENT:FALSE
SUMMARY:AAW - Market Forward Conference
DESCRIPTION:Hosted by the Advertising Association of Winnipeg \n\n\n\nFor years\, Digital Marketing Day brought Manitoba's marketing\, advertising\, and communications community together for practical insight and fresh ideas. And we heard you: you wanted more depth\, more meaningful conversation\, and more opportunities to connect beyond just the tactics.\n\n \n\nMarket Forward by AAW is the next step   a reimagined 1.5-day conference designed to help professionals not just keep up with change\, but actively shape what comes next.\n\n\n\nThrough a mix of keynote presentations\, breakout sessions\, and moderated panels\, Market Forward explores how technology\, storytelling\, trust\, accessibility\, and community are shaping the future of marketing   and how we can respond with intention.\n\n\n\nPurchase Tickets Here
X-ALT-DESC;FMTTYPE=text/html:<p style="box-sizing: border-box\; margin: unset\; color: rgb(12\, 21\, 58)\; font-family: &quot\;Open Sans&quot\;\; font-size: 14px\;"><span style="font-size:22px\;"><span style="font-family:arial\;"><strong><span style="color: rgb(12\, 21\, 58)\;">Hosted by the Advertising Association of Winnipeg&nbsp\;</span></strong><br />\n<br />\nFor years\,<strong style="box-sizing: border-box\;">&nbsp\;Digital Marketing Day</strong>&nbsp\;brought Manitoba&rsquo\;s marketing\, advertising\, and communications community together for practical insight and fresh ideas. And we heard you: you wanted more depth\, more meaningful conversation\, and more opportunities to connect beyond just the tactics.</span></span></p>\n\n<p style="box-sizing: border-box\; margin-top: auto\; margin-right: unset\; margin-bottom: unset\; margin-left: unset\; color: rgb(12\, 21\, 58)\; font-family: &quot\;Open Sans&quot\;\; font-size: 14px\;">&nbsp\;</p>\n\n<p style="box-sizing: border-box\; margin-top: auto\; margin-right: unset\; margin-bottom: unset\; margin-left: unset\; color: rgb(12\, 21\, 58)\; font-family: &quot\;Open Sans&quot\;\; font-size: 14px\;"><span style="font-size:22px\;"><span style="font-family:arial\;"><span style="box-sizing: border-box\;">Market Forward by AAW is the next step &mdash\; a reimagined 1.5-day conference designed to help professionals not just keep up with change\, but actively shape what comes next.</span><br />\n<br />\nThrough a mix of keynote presentations\, breakout sessions\, and moderated panels\, Market Forward explores how technology\, storytelling\, trust\, accessibility\, and community are shaping the future of marketing &mdash\; and how we can respond with intention.<br />\n<br />\n<strong><a href="https://adwinnipeg.ca/marketforward" target="_blank">Purchase Tickets Here</a></strong></span></span></p>\n
LOCATION:Canad Inns Polo Park 1405 St Matthews Ave\, Winnipeg\, MB R3G 0K5
UID:e.9429.1547
SEQUENCE:3
DTSTAMP:20260425T143344Z
URL:https://members.techmanitoba.ca/events/details/aaw-market-forward-conference-1547
END:VEVENT

END:VCALENDAR
