BEGIN:VCALENDAR
VERSION:2.0
PRODID:-//ChamberMaster//Event Calendar 2.0//EN
METHOD:PUBLISH
X-PUBLISHED-TTL:P3D
REFRESH-INTERVAL:P3D
CALSCALE:GREGORIAN
BEGIN:VEVENT
DTSTART:20170216T133000Z
DTEND:20170216T160000Z
X-MICROSOFT-CDO-ALLDAYEVENT:FALSE
SUMMARY:2017 ICTAM Annual General Meeting - February 16\, 2017
DESCRIPTION:Manitoba's tech industry is pretty amazing. There are some very cool people doing very cool things. The best part\, though\, is that we work together. Join us at our Annual General Meeting to have some breakfast\, cast your vote\, network with your peers and learn from Kevin Tuer of Canada's Open Data Exchange. Admission is free for all ICTAM members.
X-ALT-DESC;FMTTYPE=text/html:Manitoba&rsquo\;s tech industry is pretty amazing. There are some very cool people doing very cool things. The best part\, though\, is that we work together. Join us at our Annual General Meeting to have some breakfast\, cast your vote\, network with your peers and learn from Kevin Tuer of Canada&rsquo\;s Open Data Exchange. Admission is free for all ICTAM members.
LOCATION:ALT Hotel\, 8th floor 310 Donald St.
UID:e.9429.25
SEQUENCE:3
DTSTAMP:20260421T092002Z
URL:https://members.techmanitoba.ca/events/details/2017-ictam-annual-general-meeting-february-16-2017-25
END:VEVENT

END:VCALENDAR
