BEGIN:VCALENDAR
VERSION:2.0
PRODID:-//ChamberMaster//Event Calendar 2.0//EN
METHOD:PUBLISH
X-PUBLISHED-TTL:P3D
REFRESH-INTERVAL:P3D
CALSCALE:GREGORIAN
BEGIN:VEVENT
DTSTART:20171215T133000Z
DTEND:20171215T160000Z
X-MICROSOFT-CDO-ALLDAYEVENT:FALSE
SUMMARY:2016/2017 ICTAM Annual General Meeting - December 15\, 2017
DESCRIPTION:* If you don't have an ICTAM login or have trouble logging in\, email info@ictam.ca for immediate assistance.\n\n\n\nManitoba's tech industry is pretty amazing. There are some very cool people doing very cool things. The best part\, though\, is that we work together.\n\n\n\nWe invite you to join us for an overview of the Manitoba tech sector and to share what your association\, ICTAM\,  has been up to over the past year.  Our Annual General Meeting is our opportunity to recap our 2016/2017 year to our members and supporters. This is your industry\, your community\, and your chance to be heard.\n\n\n\nCome network with your peers in Manitoba's ICT industry before the business gets started. Join us for breakfast and settle in to hear a thought-provoking keynote from Jean-Francois Barsoum\, Senior Managing Consultant at IBM.
X-ALT-DESC;FMTTYPE=text/html:<span style="color:#FF0000\;"><strong><span style="font-size: 14px\;"><em>* If you don&#39\;t have an ICTAM login or have trouble logging in\, email info@ictam.ca for immediate assistance.</em></span></strong></span><br />\n<br />\nManitoba&rsquo\;s tech industry is pretty amazing. There are some very cool people doing very cool things. The best part\, though\, is that we work together.<br />\n<br />\nWe invite you to join us for an overview of the Manitoba tech sector and to share what your association\, ICTAM\,&nbsp\; has been up to over the past year.&nbsp\; Our Annual General Meeting is our opportunity to recap our 2016/2017 year to our members and supporters. This is your industry\, your community\, and your chance to be heard.<br />\n<br />\nCome network with your peers in Manitoba&rsquo\;s ICT industry before the business gets started. Join us for breakfast and settle in to hear a thought-provoking keynote from Jean-Francois Barsoum\, Senior Managing Consultant at IBM.
LOCATION:ALT Hotel\, 8th floor 310 Donald St.
UID:e.9429.1037
SEQUENCE:3
DTSTAMP:20260420T153834Z
URL:https://members.techmanitoba.ca/events/details/2016-2017-ictam-annual-general-meeting-december-15-2017-1037
END:VEVENT

END:VCALENDAR
